BEGIN:VCALENDAR
VERSION:2.0
PRODID:-//ChamberMaster//Event Calendar 2.0//EN
METHOD:PUBLISH
X-PUBLISHED-TTL:P3D
REFRESH-INTERVAL:P3D
CALSCALE:GREGORIAN
BEGIN:VEVENT
DTSTART:20150519T220000Z
DTEND:20150519T160000Z
X-MICROSOFT-CDO-ALLDAYEVENT:FALSE
SUMMARY:GOBA Open House / Welcome Reception - 05/19/2015
DESCRIPTION:
X-ALT-DESC;FMTTYPE=text/html:
LOCATION:1953 Clayton Heritage Way Maitland\, FL 32751
UID:e.9318.658
SEQUENCE:3
DTSTAMP:20260423T105539Z
URL:https://members.greaterorlandoba.com/events/details/goba-open-house-welcome-reception-05-19-2015-05-19-2015-658
END:VEVENT

END:VCALENDAR
