BEGIN:VCALENDAR
VERSION:2.0
PRODID:-//ChamberMaster//Event Calendar 2.0//EN
METHOD:PUBLISH
X-PUBLISHED-TTL:P3D
REFRESH-INTERVAL:P3D
CALSCALE:GREGORIAN
BEGIN:VEVENT
DTSTART:20200109T133000Z
DTEND:20200109T150000Z
X-MICROSOFT-CDO-ALLDAYEVENT:FALSE
SUMMARY:GOBA OPEN Sales & Marketing Council - JOIN US
DESCRIPTION:This Month Only: SMC Meeting has been moved from it's original First Wednesdays due to the holidays.\n\n\n\nFree & Open to ALL GOBA Members who want know more about SMC - come share your industry news\, exchange ideas with colleagues\, take part in events. Your feedback is welcome!\n\nLearn about the QUARTERLY BREAKFASTS\, NEW HOME EXPO\, MAJOR ACHIEVEMENT AWARDS\, SAM TRAM & More....\nMEETING: 9am-10am\n\nOPTIONAL: 8:30-9am Breakfast Networking SMC Warm Up \n   If you'd like to provide breakfast for an upcoming SMC Monthly Meeting\, contact cherry@greaterorlandoba.com.\n\n\n\nThe Greater Orlando Builders Association Sales and Marketing Council is a network of home building industry leaders and professionals that come from all segments of our industry. Advance your career by getting involved with this dynamic group of individuals.\n\n\n\nNon SMC Members are encouraged to attend one meeting without joining the council.  After the one complementary meeting\, SMC Membership is required to attend Membership meetings.  Find out more about becoming an SMC Member here.
X-ALT-DESC;FMTTYPE=text/html:<span style="font-size:12px\;"><span style="font-family:tahoma\;">This Month Only: SMC Meeting has been moved from it&#39\;s original First Wednesdays due to the holidays.<br />\n<br />\n<strong>Free &amp\; Open to ALL GOBA Members who want know more about SMC</strong>&nbsp\;-&nbsp\;come share your industry news\, exchange ideas with colleagues\, take part in events. Your feedback is welcome!<br />\nLearn about the <u>QUARTERLY BREAKFASTS</u>\, <u>NEW HOME EXPO</u>\, <u>MAJOR ACHIEVEMENT AWARDS</u>\, <u>SAM TRAM</u> &amp\; More....</span></span>\n<div style="margin-left: 40px\;"><span style="font-size:12px\;"><span style="font-family:tahoma\;">MEETING: 9am-10am<br />\nOPTIONAL: 8:30-9am&nbsp\;<span style="color:firebrick\;">Breakfast Networking</span>&nbsp\;<span style="color:firebrick\;">SMC Warm Up</span>&nbsp\;</span></span></div>\n<span style="font-size:12px\;"><span style="font-family:tahoma\;"><strong><span style="color:black\;">&gt\;&gt\; </span></strong><u><span style="color:black\;">I</span>f you&#39\;d like to provide breakfast for an upcoming SMC Monthly Meeting</u>\, contact&nbsp\;<a href="http://cherry@greaterorlandoba.com">cherry@greaterorlandoba.com</a>.<br />\n<br />\n<span style="widows: 1\;">The Greater Orlando Builders Association Sales and Marketing Council is a network of home building industry leaders and professionals that come from all segments of our industry. Advance your career by getting involved with this dynamic group of individuals.</span><br style="font-family: tahoma\; font-size: 12px\; widows: 1\;" />\n<br style="font-family: tahoma\; font-size: 12px\; widows: 1\;" />\n<span style="widows: 1\; line-height: 16px\;">Non SMC Members are encouraged to attend one meeting without joining the council. &nbsp\;After the one complementary meeting\, SMC Membership is required to attend Membership meetings. &nbsp\;Find out more about becoming an SMC Member&nbsp\;</span><a font-size:="" href="http://www.greaterorlandoba.com/sales-marketing-council" line-height:="" merriweather="" style="widows: 1\; font-family: ">here</a><span style="widows: 1\; line-height: 16px\;">.</span></span></span>
LOCATION:ODC Great Hall 1953 Clayton Heritage Way Maitland\, FL 32751
UID:e.9318.5792
SEQUENCE:3
DTSTAMP:20260419T175730Z
URL:https://members.greaterorlandoba.com/events/details/goba-open-sales-marketing-council-join-us-5792
END:VEVENT

END:VCALENDAR
