BEGIN:VCALENDAR
VERSION:2.0
PRODID:-//ChamberMaster//Event Calendar 2.0//EN
METHOD:PUBLISH
X-PUBLISHED-TTL:P3D
REFRESH-INTERVAL:P3D
CALSCALE:GREGORIAN
BEGIN:VEVENT
DTSTART;VALUE=DATE:20150715
DTEND;VALUE=DATE:20150716
TRANSP:TRANSPARENT
X-MICROSOFT-CDO-ALLDAYEVENT:TRUE
SUMMARY:GOBA Summer Mixer (no cost to attend)
DESCRIPTION:
X-ALT-DESC;FMTTYPE=text/html:
LOCATION:1632 N Mills Avenue Orlando\, FL 32803
UID:e.9318.675
SEQUENCE:3
DTSTAMP:20260423T080748Z
URL:https://members.greaterorlandoba.com/events/details/goba-summer-mixer-no-cost-to-attend-07-15-2015-675
END:VEVENT

END:VCALENDAR
