BEGIN:VCALENDAR
VERSION:2.0
PRODID:-//ChamberMaster//Event Calendar 2.0//EN
METHOD:PUBLISH
X-PUBLISHED-TTL:P3D
REFRESH-INTERVAL:P3D
CALSCALE:GREGORIAN
BEGIN:VEVENT
DTSTART:20200330T180000Z
DTEND:20200330T190000Z
X-MICROSOFT-CDO-ALLDAYEVENT:FALSE
SUMMARY:GOBA Webinar: Latest On Building Departments & COVID-19
DESCRIPTION:Webinar Recording Below\n\n\n\nGOBA Webinar: Latest On Building Departments & COVID-19 \n\n\n \n\n\n\nGOBA Members\, you're Invited to a Special Building Department Update with speakers from Tri-County Municipalities.\n\n \n\n\nTune in on Monday\, March 30\, 2020 at 2:00pm for this complimentary webinar and hear the latest operations and production details for the homebuilding industry during Stay At Home orders and CDC issued guidelines. REGISTER HERE\n\n \n\nThe webinar will feature a live Q&A\, where Members will have the opportunity to ask specific questions to each municipality. \n\n \nSpeakers Include:\n\n  Shane Gerwig\, Orange County Chief Building Official\n\n  Bob Pike\, Seminole County Chief Building Official\n\n  Bill Grimes\, Osceola County Chief Building Official\n\n  Roy Eden\, City of Orlando Chief Building Official\n\n  Steven Whitmore\, Osceola County Deputy Building Official\n\n  Juan Hernandez\, City of Kissimmee Chief Building Official\n\n  Eric Kuritzky\, City of Orlando Permitting Services Assistant Division Manager\n\n  George Wiggins\, City of Winter Park Director of Bldg/Legis Affairs \n\n\n\nModerator:\n\n  Chassity Vega\, CEO Greater Orlando Builders Association\n\n\n\nREGISTER HERE
X-ALT-DESC;FMTTYPE=text/html:<div _mce_style="text-align: center\; color: #000000\;" style="font-family: Arial\, Helvetica\, sans-serif\; font-size: 18.6667px\;"><strong _mce_style="font-size: 14pt\; text-decoration-line: underline\;" style="font-size: 14pt\; text-decoration-line: underline\;"><span style="font-size:28px\;"><font color="#ff0000">Webinar Recording Below</font></span><br />\n<br />\n<font color="#000000">GOBA Webinar: Latest On Building Departments &amp\; COVID-19&nbsp\;</font></strong></div>\n\n<div _mce_style="text-align: center\; color: #000000\;" align="center" style="font-family: Arial\, Helvetica\, sans-serif\; font-size: 18.6667px\; text-align: center\; color: rgb(0\, 0\, 0)\;">\n<div _mce_style="text-align: left\;" align="left" style="text-align: left\;">&nbsp\;</div>\n\n<div _mce_style="text-align: left\;" align="left" style="text-align: left\;">\n<div>\n<div><span _mce_style="font-size: 14pt\;" style="font-size: 14pt\;"><span _mce_style="font-size: 12pt\;" style="font-size: 12pt\;">GOBA Members\, you&#39\;re Invited to a Special Building Department Update with speakers from Tri-County Municipalities.</span></span><br />\n&nbsp\;</div>\n</div>\n\n<div><span _mce_style="font-size: 14pt\;" style="font-size: 14pt\;"><span _mce_style="font-size: 12pt\;" style="font-size: 12pt\;">Tune in on&nbsp\;<strong>Monday\, March 30\, 2020 at 2:00pm</strong>&nbsp\;for this complimentary webinar and&nbsp\;hear the latest operations and production details for the homebuilding industry during Stay At Home orders and CDC issued guidelines.&nbsp\;</span></span><strong><a href="https://us04web.zoom.us/webinar/register/WN_1A2Vu539Sh24x4tLH_Mv_w"><span style="color:#0000FF\;"><span style="font-family: Lato\, Helvetica\, Arial\; font-size: 16px\; white-space: pre-wrap\;">REGISTER HERE</span></span></a></strong><br />\n&nbsp\;</div>\n\n<div><span _mce_style="font-size: 14pt\;" style="font-size: 14pt\;"><span _mce_style="font-size: 12pt\;" style="font-size: 12pt\;">The webinar will feature a live Q&amp\;A\, where Members will have the opportunity to ask specific questions to each&nbsp\;municipality.&nbsp\;</span></span><br />\n&nbsp\;\n<div style="font-family: Arial\, Verdana\, Helvetica\, sans-serif\; font-size: 14px\; white-space: pre-wrap\;"><span _mce_style="font-size: 14pt\;" style="font-size: 14pt\;"><span _mce_style="font-size: 12pt\;" style="font-size: 12pt\;"><span style="font-size:16px\;"><span style="text-decoration-line: underline\; font-weight: bold\;">Speakers Include:</span></span></span></span><br />\n<span style="font-size:16px\;"><span style="font-family: Lato\, Helvetica\, Arial\;">&bull\; Shane Gerwig\, Orange County Chief Building Official</span><br style="box-sizing: border-box\; color: rgb(35\, 35\, 51)\; font-family: Lato\, Helvetica\, Arial\; font-size: 14px\;" />\n<span style="font-family: Lato\, Helvetica\, Arial\;">&bull\; Bob Pike\, Seminole County Chief Building Official</span><br style="box-sizing: border-box\; color: rgb(35\, 35\, 51)\; font-family: Lato\, Helvetica\, Arial\; font-size: 14px\;" />\n<span style="font-family: Lato\, Helvetica\, Arial\;">&bull\; Bill Grimes\, Osceola County Chief Building Official</span><br style="box-sizing: border-box\; color: rgb(35\, 35\, 51)\; font-family: Lato\, Helvetica\, Arial\; font-size: 14px\;" />\n<span style="font-family: Lato\, Helvetica\, Arial\;">&bull\; Roy Eden\, City of Orlando Chief Building Official</span><br style="box-sizing: border-box\; color: rgb(35\, 35\, 51)\; font-family: Lato\, Helvetica\, Arial\; font-size: 14px\;" />\n<span style="font-family: Lato\, Helvetica\, Arial\;">&bull\; Steven Whitmore\, Osceola County Deputy Building Official</span></span><br />\n<span style="color: rgb(0\, 0\, 0)\; font-family: Lato\, Helvetica\, Arial\; font-size: 16px\; white-space: pre-wrap\;">&bull\; Juan Hernandez\, City of Kissimmee Chief Building Official</span><br />\n<span style="color: rgb(0\, 0\, 0)\; font-family: Lato\, Helvetica\, Arial\; font-size: 16px\; white-space: pre-wrap\;">&bull\; Eric Kuritzky\, City of Orlando Permitting Services Assistant Division Manager<br />\n&bull\; George Wiggins\, City of Winter Park Director of Bldg/Legis Affairs </span><br />\n<br />\n<span style="color: rgb(0\, 0\, 0)\; font-family: Arial\, Verdana\, Helvetica\, sans-serif\; font-size: 16px\; font-weight: 700\; white-space: pre-wrap\; text-decoration-line: underline\;">Moderator:</span><br />\n<span style="color: rgb(0\, 0\, 0)\; font-family: Lato\, Helvetica\, Arial\; font-size: 16px\; white-space: pre-wrap\;">&bull\; Chassity Vega\, CEO Greater Orlando Builders Association</span><br />\n<br />\n<span style="font-size:16px\;"><span style="font-family: Lato\, Helvetica\, Arial\;"><strong><a href="https://us04web.zoom.us/webinar/register/WN_1A2Vu539Sh24x4tLH_Mv_w"><span style="color:#0000FF\;">REGISTER HERE</span></a></strong></span></span></div>\n</div>\n</div>\n</div>\n
LOCATION:
UID:e.9318.5992
SEQUENCE:3
DTSTAMP:20260419T210725Z
URL:https://members.greaterorlandoba.com/events/details/goba-webinar-latest-on-building-departments-covid-19-5992
END:VEVENT

END:VCALENDAR
