BEGIN:VCALENDAR
VERSION:2.0
PRODID:-//ChamberMaster//Event Calendar 2.0//EN
METHOD:PUBLISH
X-PUBLISHED-TTL:P3D
REFRESH-INTERVAL:P3D
CALSCALE:GREGORIAN
BEGIN:VEVENT
DTSTART;VALUE=DATE:20150813
DTEND;VALUE=DATE:20150814
TRANSP:TRANSPARENT
X-MICROSOFT-CDO-ALLDAYEVENT:TRUE
SUMMARY:GOBA Young Professionals Social - 08/13/2015
DESCRIPTION:
X-ALT-DESC;FMTTYPE=text/html:
LOCATION:431 E Central Blvd. Orlando\, FL 32801
UID:e.9318.682
SEQUENCE:3
DTSTAMP:20260423T062249Z
URL:https://members.greaterorlandoba.com/events/details/goba-young-professionals-social-08-13-2015-08-13-2015-682
END:VEVENT

END:VCALENDAR
