BEGIN:VCALENDAR
VERSION:2.0
PRODID:-//ChamberMaster//Event Calendar 2.0//EN
METHOD:PUBLISH
X-PUBLISHED-TTL:P3D
REFRESH-INTERVAL:P3D
CALSCALE:GREGORIAN
BEGIN:VEVENT
DTSTART;VALUE=DATE:20150604
DTEND;VALUE=DATE:20150605
TRANSP:TRANSPARENT
X-MICROSOFT-CDO-ALLDAYEVENT:TRUE
SUMMARY:GOBA Young Professionals Social @ Bar Louie\, Sand Lake Road
DESCRIPTION:
X-ALT-DESC;FMTTYPE=text/html:
LOCATION:7335 W Sand Lake Road #101 Orlando\, FL 32819
UID:e.9318.662
SEQUENCE:3
DTSTAMP:20260423T093057Z
URL:https://members.greaterorlandoba.com/events/details/goba-young-professionals-social-bar-louie-sand-lake-road-06-04-2015-662
END:VEVENT

END:VCALENDAR
