BEGIN:VCALENDAR
VERSION:2.0
PRODID:-//ChamberMaster//Event Calendar 2.0//EN
METHOD:PUBLISH
X-PUBLISHED-TTL:P3D
REFRESH-INTERVAL:P3D
CALSCALE:GREGORIAN
BEGIN:VEVENT
DTSTART:20170209T170000Z
DTEND:20170209T180000Z
X-MICROSOFT-CDO-ALLDAYEVENT:FALSE
SUMMARY:Government Affairs Committee
DESCRIPTION:Policy discussion on issues that impact the homebuilding industry in Central Florida
X-ALT-DESC;FMTTYPE=text/html:Policy discussion on issues that impact the homebuilding industry in Central Florida
LOCATION:GOBA Boardroom
UID:e.9318.1827
SEQUENCE:3
DTSTAMP:20260422T024717Z
URL:https://members.greaterorlandoba.com/events/details/government-affairs-committee-01-14-2016-1827
END:VEVENT

END:VCALENDAR
