BEGIN:VCALENDAR
VERSION:2.0
PRODID:-//ChamberMaster//Event Calendar 2.0//EN
METHOD:PUBLISH
X-PUBLISHED-TTL:P3D
REFRESH-INTERVAL:P3D
CALSCALE:GREGORIAN
BEGIN:VEVENT
DTSTART:20200806T173000Z
DTEND:20200806T183000Z
X-MICROSOFT-CDO-ALLDAYEVENT:FALSE
SUMMARY:Government Affairs Committee Meeting
DESCRIPTION:GA Committee Meeting
X-ALT-DESC;FMTTYPE=text/html:GA Committee Meeting
LOCATION:ZOOM Meeting for login information please contact Lee Steinhauer at Lee@greaterorlandoba.com
UID:e.9318.4881
SEQUENCE:3
DTSTAMP:20260420T050443Z
URL:https://members.greaterorlandoba.com/events/details/government-affairs-committee-meeting-08-06-2020-4881
END:VEVENT

END:VCALENDAR
