BEGIN:VCALENDAR
VERSION:2.0
PRODID:-//ChamberMaster//Event Calendar 2.0//EN
METHOD:PUBLISH
X-PUBLISHED-TTL:P3D
REFRESH-INTERVAL:P3D
CALSCALE:GREGORIAN
BEGIN:VEVENT
DTSTART:20200903T160000Z
DTEND:20200903T170000Z
X-MICROSOFT-CDO-ALLDAYEVENT:FALSE
SUMMARY:Government Affairs Committee Meeting
DESCRIPTION:GA Committee Meeting by Zoom Only:\n\n\n\nFor Zoom Meeting Link:  Contact Ricardo@GreaterOrlandoBA.com
X-ALT-DESC;FMTTYPE=text/html:GA Committee Meeting by Zoom Only:<br />\n<br />\nFor Zoom Meeting Link:&nbsp\; Contact <a href="mailto:ricardo@greaterorlandoba.com?subject=GA%20Zoom%20Link%20Request">Ricardo@GreaterOrlandoBA.com</a><br />\n<br />\n&nbsp\;
LOCATION:ZOOM Only
UID:e.9318.4882
SEQUENCE:3
DTSTAMP:20260420T064904Z
URL:https://members.greaterorlandoba.com/events/details/government-affairs-committee-meeting-09-03-2020-4882
END:VEVENT

END:VCALENDAR
