BEGIN:VCALENDAR
VERSION:2.0
PRODID:-//ChamberMaster//Event Calendar 2.0//EN
METHOD:PUBLISH
X-PUBLISHED-TTL:P3D
REFRESH-INTERVAL:P3D
CALSCALE:GREGORIAN
BEGIN:VEVENT
DTSTART:20201014T180000Z
DTEND:20201014T190000Z
X-MICROSOFT-CDO-ALLDAYEVENT:FALSE
SUMMARY:Government Affairs Committee Meeting
DESCRIPTION:GA Committee Meeting
X-ALT-DESC;FMTTYPE=text/html:GA Committee Meeting
LOCATION:Virtual Meeting
UID:e.9318.4883
SEQUENCE:3
DTSTAMP:20260420T083628Z
URL:https://members.greaterorlandoba.com/events/details/government-affairs-committee-meeting-10-01-2020-4883
END:VEVENT

END:VCALENDAR
