BEGIN:VCALENDAR
VERSION:2.0
PRODID:-//ChamberMaster//Event Calendar 2.0//EN
METHOD:PUBLISH
X-PUBLISHED-TTL:P3D
REFRESH-INTERVAL:P3D
CALSCALE:GREGORIAN
BEGIN:VEVENT
DTSTART:20171207T164500Z
DTEND:20171207T180000Z
X-MICROSOFT-CDO-ALLDAYEVENT:FALSE
SUMMARY:Government Affairs Committee Meeting
DESCRIPTION:GA Committee Meeting
X-ALT-DESC;FMTTYPE=text/html:GA Committee&nbsp\;Meeting
LOCATION:GOBA
UID:e.9318.4815
SEQUENCE:3
DTSTAMP:20260419T130812Z
URL:https://members.greaterorlandoba.com/events/details/government-affairs-committee-meeting-4815
END:VEVENT

END:VCALENDAR
