BEGIN:VCALENDAR
VERSION:2.0
PRODID:-//ChamberMaster//Event Calendar 2.0//EN
METHOD:PUBLISH
X-PUBLISHED-TTL:P3D
REFRESH-INTERVAL:P3D
CALSCALE:GREGORIAN
BEGIN:VEVENT
DTSTART:20220602T154500Z
DTEND:20220602T170000Z
X-MICROSOFT-CDO-ALLDAYEVENT:FALSE
SUMMARY:Government Affairs Committee Meeting-Rescheduled to June 23rd
DESCRIPTION:GA Committee Meeting\n\n\n\nTHIS MONTHS GA MEETING is RESCHEDULED for JUNE 23rd as OUR Quarterly Joint Meeting of the GA Committee and PAC.
X-ALT-DESC;FMTTYPE=text/html:GA Committee Meeting<br />\n<br />\n<span style="color:#FF0000\;"><strong><span style="font-size:14px\;"><span style="font-size:22px\;">THIS MONTHS GA MEETING is RESCHEDULED for JUNE 23rd as OUR Quarterly Joint Meeting of the GA Committee and PAC.&nbsp\;&nbsp\;</span></span></strong></span><br />\n&nbsp\;
LOCATION:GOBA Central Kitchen & Bath Boardroom 1953 Clayton Heritage Way Maitland\, FL 32751
UID:e.9318.4903
SEQUENCE:3
DTSTAMP:20260420T014027Z
URL:https://members.greaterorlandoba.com/events/details/government-affairs-committee-meeting-rescheduled-to-june-23rd-4903
END:VEVENT

END:VCALENDAR
