BEGIN:VCALENDAR
VERSION:2.0
PRODID:-//ChamberMaster//Event Calendar 2.0//EN
METHOD:PUBLISH
X-PUBLISHED-TTL:P3D
REFRESH-INTERVAL:P3D
CALSCALE:GREGORIAN
BEGIN:VEVENT
DTSTART:20141107T020000Z
DTEND:20141106T170000Z
X-MICROSOFT-CDO-ALLDAYEVENT:FALSE
SUMMARY:Government Affairs Meeting - 11/06/2014
DESCRIPTION:
X-ALT-DESC;FMTTYPE=text/html:
LOCATION:1953 Clayton Heritage Way Maitland\, FL 32751
UID:e.9318.597
SEQUENCE:3
DTSTAMP:20260423T195504Z
URL:https://members.greaterorlandoba.com/events/details/government-affairs-meeting-11-06-2014-11-06-2014-597
END:VEVENT

END:VCALENDAR
