BEGIN:VCALENDAR
VERSION:2.0
PRODID:-//ChamberMaster//Event Calendar 2.0//EN
METHOD:PUBLISH
X-PUBLISHED-TTL:P3D
REFRESH-INTERVAL:P3D
CALSCALE:GREGORIAN
BEGIN:VEVENT
DTSTART;VALUE=DATE:20150421
DTEND;VALUE=DATE:20150422
TRANSP:TRANSPARENT
X-MICROSOFT-CDO-ALLDAYEVENT:TRUE
SUMMARY:Home Expo 2015 - Sponsors and Exhibitors
DESCRIPTION:
X-ALT-DESC;FMTTYPE=text/html:
LOCATION:260 N. Country Club Road Lake Mary\, FL 32746
UID:e.9318.649
SEQUENCE:3
DTSTAMP:20260423T122332Z
URL:https://members.greaterorlandoba.com/events/details/home-expo-2015-sponsors-and-exhibitors-04-21-2015-649
END:VEVENT

END:VCALENDAR
