BEGIN:VCALENDAR
VERSION:2.0
PRODID:-//ChamberMaster//Event Calendar 2.0//EN
METHOD:PUBLISH
X-PUBLISHED-TTL:P3D
REFRESH-INTERVAL:P3D
CALSCALE:GREGORIAN
BEGIN:VEVENT
DTSTART:20220127T133000Z
DTEND:20220127T160000Z
X-MICROSOFT-CDO-ALLDAYEVENT:FALSE
SUMMARY:HomeAid Orlando 2022 Kick-Off Breakfast
DESCRIPTION:HomeAid Orlando's 2022 Kick-Off Breakfast\nHomeAid Orlando is building industry\, and affiliated supporters\, partnering with Homeless Service Agencies throughout Central Florida to amplify their impact in our community. HomeAid does this through collaborative construction projects\, outreach activities\, and education.\n\n\n\nAs HomeAid prepares for their third year\, please join them for a breakfast hosted at the GOBA office on Thursday - January 27th from 8:30AM - 10 AM to hear about accomplishments and plans. This meeting is open to all with breakfast compliments of Toll Brothers\, but registration is required.\n\n\n\nLearn how YOU can help build a future without homelessness. \n\n\n\n\n\nCONTACT RUSS TO REGISTER
X-ALT-DESC;FMTTYPE=text/html:<h1><span style="color:#008080\;"><strong>HomeAid Orlando&#39\;s 2022 Kick-Off Breakfast</strong></span></h1>\n<span style="font-size:18px\;"><strong><a href="https://www.homeaidorlando.org/"><span style="color:#2F4F4F\;">HomeAid Orlando</span></a></strong><span style="color:#000000\;"><strong> </strong>is building industry\, and affiliated supporters\, partnering with Homeless Service Agencies throughout Central Florida to amplify their impact in our community. HomeAid does this through collaborative construction projects\, outreach activities\, and education.<br />\n<br />\nAs HomeAid prepares for their third year\, please join them for a breakfast hosted at the GOBA office on Thursday - January 27th from 8:30AM - 10 AM to hear about accomplishments and plans. This meeting is open to all with breakfast compliments of Toll Brothers\, but <u>registration is required</u>.<br />\n<br />\n<span style="font-size:20px\;">Learn how </span></span><span style="color:#008080\;"><span style="font-size:20px\;"><strong>YOU </strong></span></span><span style="color:#000000\;"><span style="font-size:20px\;">can help build a future without homelessness.&nbsp\;</span></span></span><br />\n<br />\n<br />\nCONTACT RUSS TO REGISTER
LOCATION:The GOBA Office - Great Hall 1953 Clayton Heritage Way Maitland\, FL 32751
UID:e.9318.6489
SEQUENCE:3
DTSTAMP:20260420T100528Z
URL:https://members.greaterorlandoba.com/events/details/homeaid-orlando-2022-kick-off-breakfast-6489
END:VEVENT

END:VCALENDAR
