BEGIN:VCALENDAR
VERSION:2.0
PRODID:-//ChamberMaster//Event Calendar 2.0//EN
METHOD:PUBLISH
X-PUBLISHED-TTL:P3D
REFRESH-INTERVAL:P3D
CALSCALE:GREGORIAN
BEGIN:VEVENT
DTSTART:20210319T123000Z
DTEND:20210319T183000Z
X-MICROSOFT-CDO-ALLDAYEVENT:FALSE
SUMMARY:IAEI Clay Shoot Tournament
DESCRIPTION:IAEI will be hosting its first ever Clay Shoot Tournament \n\n\n\nThe tournament will be held at Blackjack Sporting Clays on March 19th from 8:30 am until 2 pm. Space is limited to 100 shooters! Deadline to register for the event is by March 10th. \n\n\n\nFees include snacks for breakfast\, 100 rounds of ammo\, clays\, one golf cart per 4-person team\, eye and ear protection\, and a limited number of gun rentals (sharing a gun among team members recommended). There will also be a BBQ lunch and raffle.\n\n\n\nMake sure you contact TracyMedina@ballentineelectric.com to register in time before the tournament sells out!
X-ALT-DESC;FMTTYPE=text/html:<span style="font-size:16px\;"><strong>IAEI</strong> will be hosting its first ever Clay Shoot Tournament&nbsp\;<br />\n<br />\nThe tournament will be held at Blackjack Sporting Clays on March 19th from 8:30 am until 2 pm. Space is limited to 100 shooters! Deadline to register for the event is by <strong>March 10th. </strong><br />\n<br />\nFees include snacks for breakfast\, 100 rounds of ammo\, clays\, one golf cart per 4-person team\, eye and ear protection\, and a limited number of gun rentals (sharing a gun among team members recommended).&nbsp\;There will also be a BBQ lunch and raffle.<br />\n<br />\nMake sure you contact <a href="http://TracyMedina@ballentineelectric.com">TracyMedina@ballentineelectric.com</a> to register in time before the tournament sells out!</span>
LOCATION:Blackjack Sporting Clay's 3372 Co Rd 526\, Sumterville\, FL 33585
UID:e.9318.6378
SEQUENCE:3
DTSTAMP:20260420T153637Z
URL:https://members.greaterorlandoba.com/events/details/iaei-clay-shoot-tournament-6378
END:VEVENT

END:VCALENDAR
