BEGIN:VCALENDAR
VERSION:2.0
PRODID:-//ChamberMaster//Event Calendar 2.0//EN
METHOD:PUBLISH
X-PUBLISHED-TTL:P3D
REFRESH-INTERVAL:P3D
CALSCALE:GREGORIAN
BEGIN:VEVENT
DTSTART:20160210T164500Z
DTEND:20160210T180000Z
X-MICROSOFT-CDO-ALLDAYEVENT:FALSE
SUMMARY:Joint Building Committee
DESCRIPTION:JBC meets regularly with the building officials from counties and municipalities in the Greater Orlando region. Our goal is to create and maintain a constructive dialogue to promote the timely exchange of information related to plans review\, permitting and inspection processes. Field and construction supervisors of builder members are encouraged to participate.
X-ALT-DESC;FMTTYPE=text/html:<span style="color: rgb(0\, 0\, 0)\; font-family: Verdana\, Arial\, Helvetica\, sans-serif\; line-height: 26.1444px\;">JBC meets regularly with the building officials from counties and municipalities in the Greater Orlando region. Our goal is to create and maintain a constructive dialogue&nbsp\;to promote the timely exchange of information related to plans review\, permitting and inspection processes. Field and construction supervisors of builder members are encouraged to participate.</span>
LOCATION:GOBA Great Hall 1953 Clayton Heritage Way Maitland\, FL 32751
UID:e.9318.1853
SEQUENCE:3
DTSTAMP:20260422T222834Z
URL:https://members.greaterorlandoba.com/events/details/joint-building-committee-02-10-2016-1853
END:VEVENT

END:VCALENDAR
