BEGIN:VCALENDAR
VERSION:2.0
PRODID:-//ChamberMaster//Event Calendar 2.0//EN
METHOD:PUBLISH
X-PUBLISHED-TTL:P3D
REFRESH-INTERVAL:P3D
CALSCALE:GREGORIAN
BEGIN:VEVENT
DTSTART:20180411T154500Z
DTEND:20180411T170000Z
X-MICROSOFT-CDO-ALLDAYEVENT:FALSE
SUMMARY:Joint Building Committee
DESCRIPTION:JBC meets regularly with the building officials from counties and municipalities in the Greater Orlando region. Our goal is to create and maintain a constructive dialog to promote the timely exchange of information related to plans review\, permitting and inspection processes. Field and construction supervisors of builder members are encouraged to participate. \n\n\n\n***Please join us for a special JBC meeting on April 11th for an open discussion about the details of the upcoming Project Superintendent training program. Bring your best ideas and feedback! ***
X-ALT-DESC;FMTTYPE=text/html:<span style="font-family:verdana\;">JBC<span style="font-size: 13px\; background-color: rgb(255\, 255\, 255)\;">&nbsp\;meets regularly with the building officials from counties and municipalities in the Greater Orlando region. Our goal is to create and maintain a constructive dialog&nbsp\;to promote the timely exchange of information related to plans review\, permitting and inspection processes. Field and construction supervisors of builder members are encouraged to participate.&nbsp\;</span><br />\n<br />\n<strong>***Please join us for a special JBC&nbsp\;meeting on April 11th&nbsp\;for an open discussion&nbsp\;about the details of the upcoming Project Superintendent training program. Bring your best ideas and feedback! ***</strong></span>
LOCATION:GOBA ODC Great Hall 1953 Clayton Heritage Way Maitland\, FL 32751
UID:e.9318.5393
SEQUENCE:3
DTSTAMP:20260419T192059Z
URL:https://members.greaterorlandoba.com/events/details/joint-building-committee-04-11-2018-5393
END:VEVENT

END:VCALENDAR
