BEGIN:VCALENDAR
VERSION:2.0
PRODID:-//ChamberMaster//Event Calendar 2.0//EN
METHOD:PUBLISH
X-PUBLISHED-TTL:P3D
REFRESH-INTERVAL:P3D
CALSCALE:GREGORIAN
BEGIN:VEVENT
DTSTART:20160413T154500Z
DTEND:20160413T170000Z
X-MICROSOFT-CDO-ALLDAYEVENT:FALSE
SUMMARY:Joint Building Committee
DESCRIPTION:JBC meets regularly with the building officials from counties and municipalities in the Greater Orlando region. Our goal is to create and maintain a constructive dialogue to promote the timely exchange of information related to plans review\, permitting and inspection processes. Field and construction supervisors of builder members are encouraged to participate.\n\n\n\nThe Florida Building Code passed through the Florida Legislature this year. Come learn more about it's implementation.
X-ALT-DESC;FMTTYPE=text/html:<span style="color: rgb(0\, 0\, 0)\; font-family: Verdana\, Arial\, Helvetica\, sans-serif\; line-height: 26.1444px\;">JBC meets regularly with the building officials from counties and municipalities in the Greater Orlando region. Our goal is to create and maintain a constructive dialogue&nbsp\;to promote the timely exchange of information related to plans review\, permitting and inspection processes. Field and construction supervisors of builder members are encouraged to participate.</span><br />\n<br />\n<strong><span style="color:#0000CD\;"><span style="font-family: Verdana\, Arial\, Helvetica\, sans-serif\; line-height: 26.1444px\;">The Florida Building Code passed through the Florida Legislature this year. Come learn more about it&#39\;s implementation.&nbsp\;</span></span></strong>
LOCATION:GOBA Great Hall 1953 Clayton Heritage Way Maitland\, FL 32751
UID:e.9318.2867
SEQUENCE:3
DTSTAMP:20260422T174928Z
URL:https://members.greaterorlandoba.com/events/details/joint-building-committee-04-13-2016-2867
END:VEVENT

END:VCALENDAR
