BEGIN:VCALENDAR
VERSION:2.0
PRODID:-//ChamberMaster//Event Calendar 2.0//EN
METHOD:PUBLISH
X-PUBLISHED-TTL:P3D
REFRESH-INTERVAL:P3D
CALSCALE:GREGORIAN
BEGIN:VEVENT
DTSTART:20171011T154500Z
DTEND:20171011T170000Z
X-MICROSOFT-CDO-ALLDAYEVENT:FALSE
SUMMARY:Joint Building Committee
DESCRIPTION:JBC meets regularly with the building officials from counties and municipalities in the Greater Orlando region. Our goal is to create and maintain a constructive dialog to promote the timely exchange of information related to plans review\, permitting and inspection processes. Field and construction supervisors of builder members are encouraged to participate.\n\n***Due to damage from the hurricane this meeting will be held at the Orange County Administration Building located at 201 S. Rosalind Ave.\, Orlando.***
X-ALT-DESC;FMTTYPE=text/html:<span style="color: rgb(0\, 0\, 0)\; font-family: Verdana\, Arial\, Helvetica\, sans-serif\; line-height: 26.1444px\;">JBC meets regularly with the building officials from counties and municipalities in the Greater Orlando region. Our goal is to create and maintain a constructive dialog&nbsp\;to promote the timely exchange of information related to plans review\, permitting and inspection processes. Field and construction supervisors of builder members are encouraged to participate.<br />\n<strong>***Due to damage from the hurricane this meeting will be held at the Orange County Administration Building located at 201 S. Rosalind Ave.\, Orlando.***</strong></span>
LOCATION:Orange County Administration Building Rm. 105\, Media room 201 S. Rosalind Ave. Orlando\, FL 32802-0000
UID:e.9318.4369
SEQUENCE:3
DTSTAMP:20260421T142549Z
URL:https://members.greaterorlandoba.com/events/details/joint-building-committee-4369
END:VEVENT

END:VCALENDAR
