BEGIN:VCALENDAR
VERSION:2.0
PRODID:-//ChamberMaster//Event Calendar 2.0//EN
METHOD:PUBLISH
X-PUBLISHED-TTL:P3D
REFRESH-INTERVAL:P3D
CALSCALE:GREGORIAN
BEGIN:VEVENT
DTSTART:20180220T164500Z
DTEND:20180220T180000Z
X-MICROSOFT-CDO-ALLDAYEVENT:FALSE
SUMMARY:Joint Building Committee
DESCRIPTION:*** At Meritage Homes Design Center****\n\n \n\nJBC meets regularly with the building officials from counties and municipalities in the Greater Orlando region. Our goal is to create and maintain a constructive dialog to promote the timely exchange of information related to plans review\, permitting and inspection processes. Field and construction supervisors of builder members are encouraged to participate.
X-ALT-DESC;FMTTYPE=text/html:<strong>*** At Meritage Homes Design Center****</strong><br />\n&#8203\;<br />\nJBC<span style="font-family: Verdana\, Arial\, Helvetica\, sans-serif\; font-size: 13px\; background-color: rgb(255\, 255\, 255)\;">&nbsp\;meets regularly with the building officials from counties and municipalities in the Greater Orlando region. Our goal is to create and maintain a constructive dialog&nbsp\;to promote the timely exchange of information related to plans review\, permitting and inspection processes. Field and construction supervisors of builder members are encouraged to participate.</span>
LOCATION:Meritage Homes Design Center 5337 Millenia Lakes Boulevard\, Suite 160\, Orlando\, FL 32839
UID:e.9318.4999
SEQUENCE:3
DTSTAMP:20260419T161201Z
URL:https://members.greaterorlandoba.com/events/details/joint-building-committee-4999
END:VEVENT

END:VCALENDAR
