BEGIN:VCALENDAR
VERSION:2.0
PRODID:-//ChamberMaster//Event Calendar 2.0//EN
METHOD:PUBLISH
X-PUBLISHED-TTL:P3D
REFRESH-INTERVAL:P3D
CALSCALE:GREGORIAN
BEGIN:VEVENT
DTSTART:20150813T010000Z
DTEND:20150812T160000Z
X-MICROSOFT-CDO-ALLDAYEVENT:FALSE
SUMMARY:Joint Building Issues Committee Meeting - 08/12/2015
DESCRIPTION:
X-ALT-DESC;FMTTYPE=text/html:
LOCATION:1953 Clayton Heritage Way Maitland\, FL 32751
UID:e.9318.681
SEQUENCE:3
DTSTAMP:20260423T062059Z
URL:https://members.greaterorlandoba.com/events/details/joint-building-issues-committee-meeting-08-12-2015-08-12-2015-681
END:VEVENT

END:VCALENDAR
