BEGIN:VCALENDAR
VERSION:2.0
PRODID:-//ChamberMaster//Event Calendar 2.0//EN
METHOD:PUBLISH
X-PUBLISHED-TTL:P3D
REFRESH-INTERVAL:P3D
CALSCALE:GREGORIAN
BEGIN:VEVENT
DTSTART:20180910T130000Z
DTEND:20180910T143000Z
X-MICROSOFT-CDO-ALLDAYEVENT:FALSE
SUMMARY:Lake/Orange County Connector Road study presentation at GOBA by Central Florida Expressway Authority
DESCRIPTION:Please join us for a special presentation at GOBA from the Central Florida Expressway Authority on Monday\, September 10th from 9:00 am until 10:30 am. \n\n\n\nThe Central Florida Expressway Authority is coming to GOBA to present to GOBA members a proposed project/study regarding a Lake/Orange County Connector Road that extends from US 27 in south Lake County to State Road 429 in West Orange County.The study area is generally bordered by Porter Road on the north and Old YMCA Road on the south. \n\nClick here for project description and location map\n\n\n\nGOBA members will be able to provide their input\, feedback and ask questions regarding the proposed project. This is a very important meeting to attend if you interests or projects in the area.
X-ALT-DESC;FMTTYPE=text/html:<span style="color: rgb(51\, 51\, 51)\; font-family: sans-serif\, Arial\, Verdana\, &quot\;Trebuchet MS&quot\;\; font-size: 13px\; background-color: rgb(255\, 255\, 255)\;">Please join us for a special presentation at GOBA from the Central Florida Expressway Authority on Monday\, September 10th from 9:00 am until 10:30 am.&nbsp\;</span><br />\n<br />\nThe Central Florida Expressway Authority is coming to GOBA to present to GOBA members a<span style="color: rgb(51\, 51\, 51)\; font-family: sans-serif\, Arial\, Verdana\, &quot\;Trebuchet MS&quot\;\; font-size: 13px\; background-color: rgb(255\, 255\, 255)\;">&nbsp\;proposed project/study regarding a Lake/Orange County Connector Road that extends from US 27 in south Lake County to State Road 429 in West Orange County.The study area is generally bordered by Porter Road on the north and Old YMCA Road on the south.&nbsp\;</span><br />\n<a href="https://chambermaster.blob.core.windows.net/userfiles/UserFiles/chambers/9318/File/LakeOrangeConnectorRoad.pdf">Click here for project description and location map</a><br />\n<br />\nGOBA members will be able to provide their input\, feedback and ask questions regarding the proposed project. This is a very important meeting to attend if you interests or projects in the area.<br />\n&nbsp\;
LOCATION:GOBA's ODC Great Hall 1953 Clayton Heritage Way Maitland\, FL 32751
UID:e.9318.5430
SEQUENCE:3
DTSTAMP:20260420T031906Z
URL:https://members.greaterorlandoba.com/events/details/lake-orange-county-connector-road-study-presentation-at-goba-by-central-florida-expressway-authority-5430
END:VEVENT

END:VCALENDAR
