BEGIN:VCALENDAR
VERSION:2.0
PRODID:-//ChamberMaster//Event Calendar 2.0//EN
METHOD:PUBLISH
X-PUBLISHED-TTL:P3D
REFRESH-INTERVAL:P3D
CALSCALE:GREGORIAN
BEGIN:VEVENT
DTSTART;VALUE=DATE:20150312
DTEND;VALUE=DATE:20150313
TRANSP:TRANSPARENT
X-MICROSOFT-CDO-ALLDAYEVENT:TRUE
SUMMARY:Meet the Trade & Builder BBQ General Membership Meeting
DESCRIPTION:
X-ALT-DESC;FMTTYPE=text/html:
LOCATION:1953 Clayton Heritage Way Maitland\, FL 32751
UID:e.9318.636
SEQUENCE:3
DTSTAMP:20260423T134626Z
URL:https://members.greaterorlandoba.com/events/details/meet-the-trade-builder-bbq-general-membership-meeting-03-12-2015-636
END:VEVENT

END:VCALENDAR
