BEGIN:VCALENDAR
VERSION:2.0
PRODID:-//ChamberMaster//Event Calendar 2.0//EN
METHOD:PUBLISH
X-PUBLISHED-TTL:P3D
REFRESH-INTERVAL:P3D
CALSCALE:GREGORIAN
BEGIN:VEVENT
DTSTART;VALUE=DATE:20141022
DTEND;VALUE=DATE:20141023
TRANSP:TRANSPARENT
X-MICROSOFT-CDO-ALLDAYEVENT:TRUE
SUMMARY:Membership Committee Meetings - Ambassador\, Retention and Membership Oversight - 10/22/2014
DESCRIPTION:
X-ALT-DESC;FMTTYPE=text/html:
LOCATION:1953 Clayton Heritage Way Maitland\, FL 32751
UID:e.9318.590
SEQUENCE:3
DTSTAMP:20260423T213753Z
URL:https://members.greaterorlandoba.com/events/details/membership-committee-meetings-ambassador-retention-and-membership-oversight-10-22-2014-10-22-2014-590
END:VEVENT

END:VCALENDAR
