BEGIN:VCALENDAR
VERSION:2.0
PRODID:-//ChamberMaster//Event Calendar 2.0//EN
METHOD:PUBLISH
X-PUBLISHED-TTL:P3D
REFRESH-INTERVAL:P3D
CALSCALE:GREGORIAN
BEGIN:VEVENT
DTSTART;VALUE=DATE:20141119
DTEND;VALUE=DATE:20141120
TRANSP:TRANSPARENT
X-MICROSOFT-CDO-ALLDAYEVENT:TRUE
SUMMARY:Membership Committee Meetings - Ambassador\, Retention and Membership Oversight - 11/19/2014
DESCRIPTION:
X-ALT-DESC;FMTTYPE=text/html:
LOCATION:1953 Clayton Heritage Way Maitland\, FL 32751
UID:e.9318.601
SEQUENCE:3
DTSTAMP:20260423T200138Z
URL:https://members.greaterorlandoba.com/events/details/membership-committee-meetings-ambassador-retention-and-membership-oversight-11-19-2014-11-19-2014-601
END:VEVENT

END:VCALENDAR
