BEGIN:VCALENDAR
VERSION:2.0
PRODID:-//ChamberMaster//Event Calendar 2.0//EN
METHOD:PUBLISH
X-PUBLISHED-TTL:P3D
REFRESH-INTERVAL:P3D
CALSCALE:GREGORIAN
BEGIN:VEVENT
DTSTART:20150624T220000Z
DTEND:20150624T160000Z
X-MICROSOFT-CDO-ALLDAYEVENT:FALSE
SUMMARY:Membership Committee Meetings - Ambassador\, Retention and Membership Services - 06/24/2015
DESCRIPTION:
X-ALT-DESC;FMTTYPE=text/html:
LOCATION:1953 Clayton Heritage Way Maitland\, FL 32751
UID:e.9318.670
SEQUENCE:3
DTSTAMP:20260423T105918Z
URL:https://members.greaterorlandoba.com/events/details/membership-committee-meetings-ambassador-retention-and-membership-services-06-24-2015-06-24-2015-670
END:VEVENT

END:VCALENDAR
