BEGIN:VCALENDAR
VERSION:2.0
PRODID:-//ChamberMaster//Event Calendar 2.0//EN
METHOD:PUBLISH
X-PUBLISHED-TTL:P3D
REFRESH-INTERVAL:P3D
CALSCALE:GREGORIAN
BEGIN:VEVENT
DTSTART:20151028T220000Z
DTEND:20151028T160000Z
X-MICROSOFT-CDO-ALLDAYEVENT:FALSE
SUMMARY:Membership Committee Meetings - Ambassador\, Retention and Membership Services - 10/28/2015
DESCRIPTION:
X-ALT-DESC;FMTTYPE=text/html:
LOCATION:1953 Clayton Heritage Way Maitland\, FL 32751
UID:e.9318.711
SEQUENCE:3
DTSTAMP:20260423T031253Z
URL:https://members.greaterorlandoba.com/events/details/membership-committee-meetings-ambassador-retention-and-membership-services-10-28-2015-10-28-2015-711
END:VEVENT

END:VCALENDAR
