BEGIN:VCALENDAR
VERSION:2.0
PRODID:-//ChamberMaster//Event Calendar 2.0//EN
METHOD:PUBLISH
X-PUBLISHED-TTL:P3D
REFRESH-INTERVAL:P3D
CALSCALE:GREGORIAN
BEGIN:VEVENT
DTSTART:20150212T230000Z
DTEND:20150212T170000Z
X-MICROSOFT-CDO-ALLDAYEVENT:FALSE
SUMMARY:New & Overlooked OSHA Reporting and Record Keeping Workshop
DESCRIPTION:
X-ALT-DESC;FMTTYPE=text/html:
LOCATION:1953 Clayton Heritage Way Maitland\, FL 32751
UID:e.9318.626
SEQUENCE:3
DTSTAMP:20260423T151437Z
URL:https://members.greaterorlandoba.com/events/details/new-overlooked-osha-reporting-and-record-keeping-workshop-02-12-2015-626
END:VEVENT

END:VCALENDAR
