BEGIN:VCALENDAR
VERSION:2.0
PRODID:-//ChamberMaster//Event Calendar 2.0//EN
METHOD:PUBLISH
X-PUBLISHED-TTL:P3D
REFRESH-INTERVAL:P3D
CALSCALE:GREGORIAN
BEGIN:VEVENT
DTSTART:20171004T130000Z
DTEND:20171004T140000Z
X-MICROSOFT-CDO-ALLDAYEVENT:FALSE
SUMMARY:New Place: SMC Membership Steering Committee Meeting
DESCRIPTION:This October meeting has been relocated to The Orlando Sentinel offices:\n\n \n\nFree Parking Directions:\n\n633 North Orange Avenue | Orlando | Florida | 32801\n\n\n\nAttendees may enter the employee parking lot (on the Colonial Drive side of the building)\, from either Magnolia Avenue or Orange Avenue. There will be GOBA parking signs at the entrances. The gates will be open\, and you may park anywhere for free. \n\n \n\nEnter building at main Colonial Drive door (facing parking lot)\, and someone will be there to greet and direct you to meeting room.\n\n \n\n\n\n\n\n\nThe Greater Orlando Builders Association Sales and Marketing Council is a network of home building industry leaders and professionals that come from all segments of our industry. Advance your career by getting involved with this dynamic group of individuals.\n\n\n\n\n\n\n\nNon SMC Members are encouraged to attend one meeting without joining the council.  After the one complementary meeting\, SMC Membership is required to attend Membership meetings.  Find out more about becoming an SMC Member here.
X-ALT-DESC;FMTTYPE=text/html:<p style="box-sizing: border-box\; margin: 0px 0px 10px\; color: rgb(51\, 51\, 51)\; font-family: 'Merriweather Sans'\, sans-serif\; font-size: 14px\; font-style: normal\; font-variant: normal\; font-weight: normal\; letter-spacing: normal\; line-height: 16px\; orphans: auto\; text-align: start\; text-indent: 0px\; text-transform: none\; white-space: normal\; widows: 1\; word-spacing: 0px\; -webkit-text-stroke-width: 0px\;"><strong><span style="color:#FF0000\;">This October meeting has been relocated to <u>The Orlando Sentinel</u> offices:</span></strong><br />\n&nbsp\;</p>\n\n<p style="margin-top: 0px\; margin-bottom: 0px\; color: rgb(0\, 0\, 0)\; font-family: Calibri\, Helvetica\, sans-serif\, Helvetica\, EmojiFont\, &quot\;Apple Color Emoji&quot\;\, &quot\;Segoe UI Emoji&quot\;\, NotoColorEmoji\, &quot\;Segoe UI Symbol&quot\;\, &quot\;Android Emoji&quot\;\, EmojiSymbols\; font-size: 16px\; text-size-adjust: auto\;"><strong>Free&nbsp\;Parking Directions:</strong><br />\n633 North Orange Avenue | Orlando | Florida | 32801</p>\n\n<div style="text-size-adjust: auto\; color: rgb(33\, 33\, 33)\; font-family: wf_segoe-ui_normal\, &quot\;Segoe UI&quot\;\, &quot\;Segoe WP&quot\;\, Tahoma\, Arial\, sans-serif\, serif\, EmojiFont\; font-size: 15px\; margin: 0px\;"><br />\n<font size="3" style="font-family: &quot\;Times New Roman&quot\;\, serif\, serif\, EmojiFont\;"><span style="font-size: 12pt\;"><font color="#1F497D" size="2" style="font-family: Calibri\, sans-serif\, serif\, EmojiFont\;"><span style="font-size: 11pt\;">Attendees may enter the employee parking lot (on the Colonial Drive side of the building)\, from either Magnolia Avenue or Orange Avenue. There will be GOBA parking signs at the entrances. The gates will be open\, and you may park anywhere for free.&nbsp\;</span></font></span></font></div>\n\n<div style="text-size-adjust: auto\; color: rgb(33\, 33\, 33)\; font-family: wf_segoe-ui_normal\, &quot\;Segoe UI&quot\;\, &quot\;Segoe WP&quot\;\, Tahoma\, Arial\, sans-serif\, serif\, EmojiFont\; font-size: 15px\; margin: 0px\;"><font size="3" style="font-family: &quot\;Times New Roman&quot\;\, serif\, serif\, EmojiFont\;"><span style="font-size: 12pt\;"><font color="#1F497D" size="2" style="font-family: Calibri\, sans-serif\, serif\, EmojiFont\;"><span style="font-size: 11pt\;">&nbsp\;</span></font></span></font></div>\n\n<div style="text-size-adjust: auto\; color: rgb(33\, 33\, 33)\; font-family: wf_segoe-ui_normal\, &quot\;Segoe UI&quot\;\, &quot\;Segoe WP&quot\;\, Tahoma\, Arial\, sans-serif\, serif\, EmojiFont\; font-size: 15px\; margin: 0px\;"><font size="3" style="font-family: &quot\;Times New Roman&quot\;\, serif\, serif\, EmojiFont\;"><span style="font-size: 12pt\;"><font color="#1F497D" size="2" style="font-family: Calibri\, sans-serif\, serif\, EmojiFont\;"><span style="font-size: 11pt\;">Enter building at main Colonial Drive door (facing parking lot)\, and someone will be there to greet and direct you to meeting room.</span></font></span></font></div>\n\n<p style="box-sizing: border-box\; margin: 0px 0px 10px\; color: rgb(51\, 51\, 51)\; font-family: 'Merriweather Sans'\, sans-serif\; font-size: 14px\; font-style: normal\; font-variant: normal\; font-weight: normal\; letter-spacing: normal\; line-height: 16px\; orphans: auto\; text-align: start\; text-indent: 0px\; text-transform: none\; white-space: normal\; widows: 1\; word-spacing: 0px\; -webkit-text-stroke-width: 0px\;">&nbsp\;</p>\n\n<hr />\n<p style="box-sizing: border-box\; margin: 0px 0px 10px\; color: rgb(51\, 51\, 51)\; font-family: 'Merriweather Sans'\, sans-serif\; font-size: 14px\; font-style: normal\; font-variant: normal\; font-weight: normal\; letter-spacing: normal\; line-height: 16px\; orphans: auto\; text-align: start\; text-indent: 0px\; text-transform: none\; white-space: normal\; widows: 1\; word-spacing: 0px\; -webkit-text-stroke-width: 0px\;"><br />\n<br />\nThe Greater Orlando Builders Association Sales and Marketing Council is a network of home building industry leaders and professionals that come from all segments of our industry. Advance your career by getting involved with this dynamic group of individuals.<br />\n<br />\n<br />\n<br />\n<span background-color:="" font-size:="" line-height:="" merriweather="" style="color: rgb(51\, 51\, 51)\; font-family: " widows:="">Non SMC Members are encouraged to attend one meeting without joining the council. &nbsp\;After the one complementary meeting\, SMC Membership is required to attend Membership meetings. &nbsp\;Find out more about becoming an SMC Member&nbsp\;</span><a background-color:="" font-size:="" href="http://www.greaterorlandoba.com/sales-marketing-council" line-height:="" merriweather="" style="color: rgb(7\, 130\, 193)\; font-family: " widows:="">here</a><span background-color:="" font-size:="" line-height:="" merriweather="" style="color: rgb(51\, 51\, 51)\; font-family: " widows:="">.</span></p>\n
LOCATION:The Orlando Sentinel 633 North Orange Avenue | Orlando | Florida | 32801
UID:e.9318.4209
SEQUENCE:3
DTSTAMP:20260421T142930Z
URL:https://members.greaterorlandoba.com/events/details/new-place-smc-membership-steering-committee-meeting-4209
END:VEVENT

END:VCALENDAR
