BEGIN:VCALENDAR
VERSION:2.0
PRODID:-//ChamberMaster//Event Calendar 2.0//EN
METHOD:PUBLISH
X-PUBLISHED-TTL:P3D
REFRESH-INTERVAL:P3D
CALSCALE:GREGORIAN
BEGIN:VEVENT
DTSTART;VALUE=DATE:20150514
DTEND;VALUE=DATE:20150515
TRANSP:TRANSPARENT
X-MICROSOFT-CDO-ALLDAYEVENT:TRUE
SUMMARY:Nine & Wine Charity Event - 05/14/2015
DESCRIPTION:
X-ALT-DESC;FMTTYPE=text/html:
LOCATION:761 Old England Ave. Winter Park\, FL 32789
UID:e.9318.656
SEQUENCE:3
DTSTAMP:20260423T105533Z
URL:https://members.greaterorlandoba.com/events/details/nine-wine-charity-event-05-14-2015-05-14-2015-656
END:VEVENT

END:VCALENDAR
