BEGIN:VCALENDAR
VERSION:2.0
PRODID:-//ChamberMaster//Event Calendar 2.0//EN
METHOD:PUBLISH
X-PUBLISHED-TTL:P3D
REFRESH-INTERVAL:P3D
CALSCALE:GREGORIAN
BEGIN:VEVENT
DTSTART;VALUE=DATE:20180712
DTEND;VALUE=DATE:20180713
TRANSP:TRANSPARENT
X-MICROSOFT-CDO-ALLDAYEVENT:TRUE
SUMMARY:NO JULY Remodelers Council Meeting
DESCRIPTION:No July Custom Homes & Remodeling Council Meeting - see you Aug. 9th.
X-ALT-DESC;FMTTYPE=text/html:<strong><span style="color:#FF0000\;">No July Custom Homes &amp\; Remodeling Council Meeting - see you Aug. 9th.</span></strong>
LOCATION:
UID:e.9318.5413
SEQUENCE:3
DTSTAMP:20260420T001143Z
URL:https://members.greaterorlandoba.com/events/details/no-july-remodelers-council-meeting-5413
END:VEVENT

END:VCALENDAR
