BEGIN:VCALENDAR
VERSION:2.0
PRODID:-//ChamberMaster//Event Calendar 2.0//EN
METHOD:PUBLISH
X-PUBLISHED-TTL:P3D
REFRESH-INTERVAL:P3D
CALSCALE:GREGORIAN
BEGIN:VEVENT
DTSTART:20191106T140000Z
DTEND:20191106T150000Z
X-MICROSOFT-CDO-ALLDAYEVENT:FALSE
SUMMARY:OPEN to All GOBA Members: SMC Membership Meeting
DESCRIPTION:November's Meeting is Open to ALL GOBA MEMBERS who are interested in joining or learning about the Sales & Marketing Committee - come share your industry news\, exchange ideas with colleagues\, take part in events. Your feedback is welcome!\n\n\n\n**SMC is looking for BUILDER Member feedback on a few topics - please attend.\n\nLearn about the MAJOR ACHIEVEMENT AWARDS 2020  -  QUARTERLY RECOGNITION BREAKFASTS  - SAM TRAM BUS TOURS  -  NEW HOME EXPO and more!\n\n\n   OPTIONAL: 8:30-9am Breakfast Networking - SMC Warm Up brought to you by FIRST AMERICAN TITLE\n\n   Meeting: 9-10am\n\n\n\n\n\nOpen to Sales & Marketing Council Members - come share your industry news\, exchange ideas with colleagues\, take part in events. Your feedback is welcome!\n\n\n\n\n\n\n\nThe Greater Orlando Builders Association Sales and Marketing Council is a network of home building industry leaders and professionals that come from all segments of our industry. Advance your career by getting involved with this dynamic group of individuals.\n\n\n\nNon SMC Members are encouraged to attend one meeting without joining the council.  After the one complementary meeting\, SMC Membership is required to attend Membership meetings.  Find out more about becoming an SMC Member here.
X-ALT-DESC;FMTTYPE=text/html:<p><strong style="font-family: Roboto\, sans-serif\; font-size: 13.3333px\;"><span style="font-family: tahoma\, sans-serif\;"><span style="font-size: 9pt\;">November&#39\;s Meeting is<span style="background: yellow\;"><span style="color: black\;">&nbsp\;Open to ALL GOBA MEMBERS</span></span>&nbsp\;who are interested in joining or learning about the Sales &amp\; Marketing Committee&nbsp\;-&nbsp\;</span></span></strong><strong style="font-family: Roboto\, sans-serif\; font-size: 13.3333px\;"><span style="font-family: tahoma\, sans-serif\;"><span style="font-size: 9pt\;">come share your industry news\, exchange ideas with colleagues\, take part in events. Your feedback is welcome!<br />\n<br />\n**SMC is looking for BUILDER Member feedback on a few topics - please attend.</span></span></strong></p>\n\n<div style="background:#eee\;border:1px solid #ccc\;padding:5px 10px\;"><strong style="font-family: Roboto\, sans-serif\; font-size: 13.3333px\;"><span style="font-family: tahoma\, sans-serif\;"><span style="font-size: 9pt\;">Learn about the MAJOR ACHIEVEMENT AWARDS 2020&nbsp\; -&nbsp\; QUARTERLY RECOGNITION BREAKFASTS&nbsp\; - SAM TRAM BUS TOURS&nbsp\; -&nbsp\; NEW HOME EXPO and more!</span></span></strong></div>\n<br style="font-family: Roboto\, sans-serif\; font-size: 13.3333px\; font-weight: 700\;" />\n<strong style="font-family: Roboto\, sans-serif\; font-size: 13.3333px\;"><span style="font-family: tahoma\, sans-serif\;"><span style="font-size: 9pt\;">&bull\;&nbsp\; OPTIONAL: 8:30-9am&nbsp\;<span style="color: firebrick\;">Breakfast Networking</span>&nbsp\;-&nbsp\;<span style="color: firebrick\;">SMC Warm Up brought to you by FIRST AMERICAN TITLE</span></span></span></strong><br style="font-family: Roboto\, sans-serif\; font-size: 13.3333px\; font-weight: 700\;" />\n<strong style="font-family: Roboto\, sans-serif\; font-size: 13.3333px\;"><span style="font-family: tahoma\, sans-serif\;"><span style="font-size: 9pt\;"><strong>&bull\;&nbsp\; Meeting: 9-10am</strong></span></span></strong><br />\n<br />\n<br />\n<strong style="font-family: tahoma\; font-size: 12px\;"><u>Open to Sales &amp\; Marketing Council Members</u>&nbsp\;-&nbsp\;</strong><span style="font-family: tahoma\; font-size: 12px\;">come share your industry news\, exchange ideas with colleagues\, take part in events. Your feedback is welcome!</span><br style="font-family: tahoma\; font-size: 12px\;" />\n<br style="font-family: tahoma\; font-size: 12px\;" />\n<br />\n<br />\n<span style="font-family: tahoma\; font-size: 12px\; widows: 1\;">The Greater Orlando Builders Association Sales and Marketing Council is a network of home building industry leaders and professionals that come from all segments of our industry. Advance your career by getting involved with this dynamic group of individuals.</span><br style="font-family: tahoma\; font-size: 12px\; widows: 1\;" />\n<br style="font-family: tahoma\; font-size: 12px\; widows: 1\;" />\n<span style="font-family: tahoma\; font-size: 12px\; widows: 1\; line-height: 16px\;">Non SMC Members are encouraged to attend one meeting without joining the council. &nbsp\;After the one complementary meeting\, SMC Membership is required to attend Membership meetings. &nbsp\;Find out more about becoming an SMC Member&nbsp\;</span><a font-size:="" href="http://www.greaterorlandoba.com/sales-marketing-council" line-height:="" merriweather="" style="widows: 1\; font-family: ">here</a><span style="font-family: tahoma\; font-size: 12px\; widows: 1\; line-height: 16px\;">.</span>
LOCATION:GOBA Great Hall 1953 Clayton Heritage Way Maitland\, FL 32751
UID:e.9318.5528
SEQUENCE:3
DTSTAMP:20260419T144116Z
URL:https://members.greaterorlandoba.com/events/details/open-to-all-goba-members-smc-membership-meeting-5528
END:VEVENT

END:VCALENDAR
