BEGIN:VCALENDAR
VERSION:2.0
PRODID:-//ChamberMaster//Event Calendar 2.0//EN
METHOD:PUBLISH
X-PUBLISHED-TTL:P3D
REFRESH-INTERVAL:P3D
CALSCALE:GREGORIAN
BEGIN:VEVENT
DTSTART;VALUE=DATE:20150120
DTEND;VALUE=DATE:20150121
TRANSP:TRANSPARENT
X-MICROSOFT-CDO-ALLDAYEVENT:TRUE
SUMMARY:Orange County Developers Forum
DESCRIPTION:
X-ALT-DESC;FMTTYPE=text/html:
LOCATION:4200 S. John Young Parkway Orlando\, FL 32839
UID:e.9318.615
SEQUENCE:3
DTSTAMP:20260423T164543Z
URL:https://members.greaterorlandoba.com/events/details/orange-county-developers-forum-01-20-2015-615
END:VEVENT

END:VCALENDAR
