BEGIN:VCALENDAR
VERSION:2.0
PRODID:-//ChamberMaster//Event Calendar 2.0//EN
METHOD:PUBLISH
X-PUBLISHED-TTL:P3D
REFRESH-INTERVAL:P3D
CALSCALE:GREGORIAN
BEGIN:VEVENT
DTSTART;VALUE=DATE:20170829
DTEND;VALUE=DATE:20170830
TRANSP:TRANSPARENT
X-MICROSOFT-CDO-ALLDAYEVENT:TRUE
SUMMARY:Orange County Electronic Plans Submittal Training
DESCRIPTION:Orange County Staff are coming to GOBA to provide training for the County's new electronic plans submittal system. \n\n\n\nIn order to make the training nice and simple\, where applicable\, the County has requested the following to attend for each interested contractor:\n\n	       Contractor- to setup the Fast Track account\;\n	       Office person- typically\, they submit on behalf of the contractor\;  \n	       Design Professional- OC Staff will be providing requirements on a proper creating of plans.\n\n  As part of the Electronic Plans Submittal training\, staff will also be including approximately 10-15 minutes of training on the Architectural Standards for the Horizon West area.
X-ALT-DESC;FMTTYPE=text/html:<span style="font-size:16px\;"><span style="font-family:times new roman\;"><span style="color:#0000CD\;">Orange&nbsp\;County Staff are coming to GOBA&nbsp\;to&nbsp\;provide training for the County&#39\;s new electronic plans submittal&nbsp\;system.&nbsp\;<br />\n<br />\nIn order to make the training nice and simple\, where applicable\, the County has requested the following to attend for each interested contractor:</span></span></span>\n<ol>\n	<li><span style="font-size:16px\;"><span style="font-family:times new roman\;"><span style="color:#0000CD\;">&nbsp\;&nbsp\;&nbsp\;&nbsp\;&nbsp\;&nbsp\; Contractor- to setup the Fast Track account\;</span></span></span></li>\n	<li><span style="font-size:16px\;"><span style="font-family:times new roman\;"><span style="color:#0000CD\;">&nbsp\; &nbsp\; &nbsp\; &nbsp\;Office person- typically\, they submit on behalf of the contractor\; &nbsp\;</span></span></span></li>\n	<li><span style="font-size:16px\;"><span style="font-family:times new roman\;"><span style="color:#0000CD\;">&nbsp\;&nbsp\;&nbsp\;&nbsp\;&nbsp\;&nbsp\; Design Professional- OC Staff&nbsp\;will be providing requirements on a proper creating of plans.</span></span></span></li>\n</ol>\n<span style="font-size:16px\;"> <span style="font-family:times new roman\;"> <span style="color:#0000CD\;">As part of the Electronic Plans Submittal training\, staff will also be including approximately 10-15 minutes of training on the Architectural Standards for the Horizon West area.&nbsp\;</span></span></span><br />\n&nbsp\;
LOCATION:GOBA Great Hall
UID:e.9318.4689
SEQUENCE:3
DTSTAMP:20260421T173020Z
URL:https://members.greaterorlandoba.com/events/details/orange-county-electronic-plans-submittal-training-4689
END:VEVENT

END:VCALENDAR
