BEGIN:VCALENDAR
VERSION:2.0
PRODID:-//ChamberMaster//Event Calendar 2.0//EN
METHOD:PUBLISH
X-PUBLISHED-TTL:P3D
REFRESH-INTERVAL:P3D
CALSCALE:GREGORIAN
BEGIN:VEVENT
DTSTART:20160510T180000Z
DTEND:20160510T210000Z
X-MICROSOFT-CDO-ALLDAYEVENT:FALSE
SUMMARY:Orange County Impact Fee Vote
DESCRIPTION:Orange County  \n\n \n\nSchool Impact Fee   On April 7th\, the Orange County School Impact Fee Advisory Group recommended moving forward with a study by Tindale Oliver supporting an increase in the school impact fee with a deferment of payment until January 1\, 2017. OCPS met on April 12th and vote to recommend the study to the Board of County Commissioners without the deferment. This would mean a possible effective date in August 2016. A public hearing of the Board of County Commissioner to vote on the increase of fees and the payment schedule is on May 10th at 2:00pm. Please attend in support of the building industry. The suggested residential increases are as follows:\n\n \n\n                Residential Land Use                   Current Fee              Calculated Fee              Percentage Increase\n\nSingle Family Residential             $6\,525                        $8\,784                          +35%\n\nTownhouse                                     $3\,921                        $6\,930                          +77%\n\nMulti Family                                    $3\,921                       $5\,919                          +51%
X-ALT-DESC;FMTTYPE=text/html:<u><span style="font-family:calibri\,sans-serif\;"><span style="font-size:11.0pt\;">Orange County&nbsp\; </span></span></u><br />\n&nbsp\;<br />\n<strong><span style="color:black\;"><span style="font-family:calibri\,sans-serif\;"><span style="font-size:11.0pt\;">School Impact Fee</span></span></span></strong><span style="color:black\;"><span style="font-family:calibri\,sans-serif\;"><span style="font-size:11.0pt\;"> &ndash\; On April 7<sup>th</sup>\, the Orange County School Impact Fee Advisory Group recommended moving forward with a study by Tindale Oliver supporting an increase in the school impact fee with a deferment of payment until January 1\, 2017. OCPS met on April 12<sup>th</sup> and vote to recommend the study to the Board of County Commissioners without the deferment. This would mean a possible effective date in August 2016. A public hearing of the Board of County Commissioner to vote on the increase of fees and the payment schedule is on </span></span></span><span style="color:red\;"><span style="font-family:calibri\,sans-serif\;"><span style="font-size:11.0pt\;">May 10<sup>th</sup> at 2:00pm</span></span></span><span style="color:black\;"><span style="font-family:calibri\,sans-serif\;"><span style="font-size:11.0pt\;">. Please attend in support of the building industry.&nbsp\;The suggested residential increases are as follows:</span></span></span><br />\n&nbsp\;<br />\n<span style="color:black\;"><span style="font-family:calibri\,sans-serif\;"><span style="font-size:11.0pt\;">&nbsp\;&nbsp\;&nbsp\;&nbsp\;&nbsp\;&nbsp\;&nbsp\;&nbsp\;&nbsp\;&nbsp\;&nbsp\;&nbsp\;&nbsp\;&nbsp\;&nbsp\; Residential Land Use&nbsp\;&nbsp\;&nbsp\;&nbsp\;&nbsp\;&nbsp\;&nbsp\;&nbsp\;&nbsp\;&nbsp\;&nbsp\;&nbsp\;&nbsp\;&nbsp\;&nbsp\;&nbsp\;&nbsp\;&nbsp\; Current Fee&nbsp\;&nbsp\;&nbsp\;&nbsp\;&nbsp\;&nbsp\;&nbsp\;&nbsp\;&nbsp\;&nbsp\;&nbsp\;&nbsp\;&nbsp\; Calculated Fee&nbsp\;&nbsp\;&nbsp\;&nbsp\;&nbsp\;&nbsp\;&nbsp\;&nbsp\;&nbsp\;&nbsp\;&nbsp\;&nbsp\;&nbsp\; Percentage Increase</span></span></span><br />\n<span style="color:black\;"><span style="font-family:calibri\,sans-serif\;"><span style="font-size:11.0pt\;">Single Family Residential&nbsp\;&nbsp\;&nbsp\;&nbsp\;&nbsp\;&nbsp\;&nbsp\;&nbsp\;&nbsp\;&nbsp\;&nbsp\;&nbsp\; $6\,525&nbsp\;&nbsp\;&nbsp\;&nbsp\;&nbsp\;&nbsp\;&nbsp\;&nbsp\;&nbsp\;&nbsp\;&nbsp\;&nbsp\;&nbsp\;&nbsp\;&nbsp\;&nbsp\;&nbsp\; &nbsp\;&nbsp\;&nbsp\;&nbsp\;&nbsp\;&nbsp\;$8\,784&nbsp\;&nbsp\;&nbsp\;&nbsp\;&nbsp\;&nbsp\;&nbsp\;&nbsp\;&nbsp\;&nbsp\;&nbsp\;&nbsp\;&nbsp\;&nbsp\;&nbsp\;&nbsp\;&nbsp\;&nbsp\;&nbsp\;&nbsp\;&nbsp\;&nbsp\;&nbsp\;&nbsp\;&nbsp\; +35%</span></span></span><br />\n<span style="color:black\;"><span style="font-family:calibri\,sans-serif\;"><span style="font-size:11.0pt\;">Townhouse&nbsp\;&nbsp\;&nbsp\;&nbsp\;&nbsp\;&nbsp\;&nbsp\;&nbsp\;&nbsp\;&nbsp\;&nbsp\;&nbsp\;&nbsp\;&nbsp\;&nbsp\;&nbsp\;&nbsp\;&nbsp\;&nbsp\;&nbsp\;&nbsp\;&nbsp\;&nbsp\;&nbsp\;&nbsp\;&nbsp\;&nbsp\;&nbsp\;&nbsp\;&nbsp\;&nbsp\;&nbsp\;&nbsp\;&nbsp\;&nbsp\;&nbsp\; $3\,921&nbsp\;&nbsp\;&nbsp\;&nbsp\;&nbsp\;&nbsp\;&nbsp\;&nbsp\;&nbsp\;&nbsp\;&nbsp\;&nbsp\;&nbsp\;&nbsp\;&nbsp\;&nbsp\;&nbsp\;&nbsp\;&nbsp\;&nbsp\;&nbsp\;&nbsp\;&nbsp\; $6\,930&nbsp\;&nbsp\;&nbsp\;&nbsp\;&nbsp\;&nbsp\;&nbsp\;&nbsp\;&nbsp\;&nbsp\;&nbsp\;&nbsp\;&nbsp\;&nbsp\;&nbsp\;&nbsp\;&nbsp\;&nbsp\;&nbsp\;&nbsp\;&nbsp\;&nbsp\;&nbsp\;&nbsp\;&nbsp\; +77%</span></span></span><br />\n<span style="color:black\;"><span style="font-family:calibri\,sans-serif\;"><span style="font-size:11.0pt\;">Multi Family&nbsp\;&nbsp\;&nbsp\;&nbsp\;&nbsp\;&nbsp\;&nbsp\;&nbsp\;&nbsp\;&nbsp\;&nbsp\;&nbsp\;&nbsp\;&nbsp\;&nbsp\;&nbsp\;&nbsp\;&nbsp\;&nbsp\;&nbsp\;&nbsp\;&nbsp\;&nbsp\;&nbsp\;&nbsp\;&nbsp\;&nbsp\;&nbsp\;&nbsp\;&nbsp\;&nbsp\;&nbsp\;&nbsp\;&nbsp\;&nbsp\; $3\,921&nbsp\;&nbsp\;&nbsp\;&nbsp\;&nbsp\;&nbsp\;&nbsp\;&nbsp\;&nbsp\;&nbsp\;&nbsp\;&nbsp\;&nbsp\;&nbsp\;&nbsp\;&nbsp\;&nbsp\;&nbsp\;&nbsp\;&nbsp\;&nbsp\;&nbsp\; $5\,919&nbsp\;&nbsp\;&nbsp\;&nbsp\;&nbsp\;&nbsp\;&nbsp\;&nbsp\;&nbsp\;&nbsp\;&nbsp\;&nbsp\;&nbsp\;&nbsp\;&nbsp\;&nbsp\; &nbsp\;&nbsp\;&nbsp\;&nbsp\;&nbsp\;&nbsp\;&nbsp\;&nbsp\;&nbsp\;+51%</span></span></span>
LOCATION:Orange County Administrative Building Commission Chambers\, 1st Floor 201 S. Rosalind Avenue Orlando\, FL 32801
UID:e.9318.3903
SEQUENCE:3
DTSTAMP:20260422T161507Z
URL:https://members.greaterorlandoba.com/events/details/orange-county-impact-fee-vote-05-10-2016-3903
END:VEVENT

END:VCALENDAR
