BEGIN:VCALENDAR
VERSION:2.0
PRODID:-//ChamberMaster//Event Calendar 2.0//EN
METHOD:PUBLISH
X-PUBLISHED-TTL:P3D
REFRESH-INTERVAL:P3D
CALSCALE:GREGORIAN
BEGIN:VEVENT
DTSTART:20170720T190000Z
DTEND:20170720T210000Z
X-MICROSOFT-CDO-ALLDAYEVENT:FALSE
SUMMARY:PAC Candidate Interviews
DESCRIPTION:The GOBA PAC Committee will be interviewing candidates running in the special election for Florida House District 44\, and who are seeking PAC's endorsement. PAC provides monetary and other forms of support to endorsed candidates.
X-ALT-DESC;FMTTYPE=text/html:The GOBA PAC Committee will be interviewing candidates&nbsp\;running in the special&nbsp\;election for Florida House District 44\, and who are seeking PAC&#39\;s endorsement. PAC provides monetary and other forms of support to endorsed candidates.
LOCATION:GOBA Boardroom
UID:e.9318.4670
SEQUENCE:3
DTSTAMP:20260421T191326Z
URL:https://members.greaterorlandoba.com/events/details/pac-candidate-interviews-4670
END:VEVENT

END:VCALENDAR
