BEGIN:VCALENDAR
VERSION:2.0
PRODID:-//ChamberMaster//Event Calendar 2.0//EN
METHOD:PUBLISH
X-PUBLISHED-TTL:P3D
REFRESH-INTERVAL:P3D
CALSCALE:GREGORIAN
BEGIN:VEVENT
DTSTART;VALUE=DATE:20150507
DTEND;VALUE=DATE:20150508
TRANSP:TRANSPARENT
X-MICROSOFT-CDO-ALLDAYEVENT:TRUE
SUMMARY:Parade of Homes Awards Celebration - 05/07/2015
DESCRIPTION:
X-ALT-DESC;FMTTYPE=text/html:
LOCATION:8815 International Drive Orlando\, FL 32819
UID:e.9318.653
SEQUENCE:3
DTSTAMP:20260423T105345Z
URL:https://members.greaterorlandoba.com/events/details/parade-of-homes-awards-celebration-05-07-2015-05-07-2015-653
END:VEVENT

END:VCALENDAR
