BEGIN:VCALENDAR
VERSION:2.0
PRODID:-//ChamberMaster//Event Calendar 2.0//EN
METHOD:PUBLISH
X-PUBLISHED-TTL:P3D
REFRESH-INTERVAL:P3D
CALSCALE:GREGORIAN
BEGIN:VEVENT
DTSTART:20161215T210000Z
DTEND:20161215T220000Z
X-MICROSOFT-CDO-ALLDAYEVENT:FALSE
SUMMARY:Political Action Committee
DESCRIPTION:City of Winter Park- upcoming elections discussion\n\n\n\nThe City of Winter Park will be holding elections for two City Commission seats in March of 2017. If you are a GOBA Builder or Associate member doing business in the City of Winter Park\, the GOBA PAC Board of Directors would like to hear from you regarding any issues you may be facing with building regulations or other issues you may be facing in Winter Park.  Based on the discussion to be held at this meeting\, the PAC Board will determine whether they will interview and/or potentially support particular candidates for these seats. \n\n\n\nGOBA PAC Board Officer Elections to be held immediately following the City of Winter Park discussion.\n\n\n\n\n\nThank you to all members who contributed to PAC this year! We had a successful 2016 campaign year and want to thank everyone for your time\, input and financial contributions. We have a strong board and we are ready to fundraise in 2017. Contact Brett Blake at Brett@GreaterOrlandoBA.com for more details on how to get involved with a team that is making a difference in shaping homebuilder-focused legislation and pro-growth government initiatives. PAC focuses on candidates in local and state elections. Along with the Florida Home Builders Association (FHBA-PAC)\, GOBA PAC screens and endorses those candidates who support and recognize the importance of homeownership and homebuilding as an economic force within the community. Meetings are open to the membership.
X-ALT-DESC;FMTTYPE=text/html:<span style="font-size: 13px\; font-family: Verdana\, Arial\, Helvetica\, sans-serif\;"><span style="font-family: Verdana\;">City of Winter Park- upcoming elections discussion<br />\n<br />\nThe City of Winter Park will be holding elections for two City Commission seats in March of 2017. If you are a GOBA Builder or Associate member doing business in the City of Winter Park\, the GOBA PAC Board of Directors would like to hear from you regarding any issues you may be facing with building regulations or other issues you may be facing in Winter Park. &nbsp\;Based on the discussion to be held at this meeting\, the PAC Board will determine whether they will interview and/or potentially support particular candidates for these seats.&nbsp\;<br />\n<br />\nGOBA&nbsp\;PAC Board Officer Elections to be held immediately following the City of Winter Park discussion.<br />\n<br />\n<br />\nThank you to all members who contributed to PAC this year! We had a successful 2016 campaign year and want to thank everyone for your time\, input and financial contributions.&nbsp\;<strong>We have a strong board and we are ready to fundraise in&nbsp\;2017.</strong>&nbsp\;Contact Brett Blake&nbsp\;at&nbsp\;</span></span><span style="font-size: 13px\; font-family: Verdana\, Arial\, Helvetica\, sans-serif\;"><span style="font-family: Verdana\;"><a _fcksavedurl="mailto:adrianna@greaterorlandoba.com" href="mailto:adrianna@greaterorlandoba.com" style="color: rgb(66\, 139\, 202)\; margin: 0px\; padding: 0px\; border: 0px\; outline: none\; cursor: pointer\; text-decoration: none\; box-sizing: border-box\; background-image: initial\; background-position: initial\; background-size: initial\; background-repeat: initial\; background-attachment: initial\; background-origin: initial\; background-clip: initial\;">Brett@GreaterOrlandoBA.com</a></span></span><span style="font-size: 13px\; font-family: Verdana\, Arial\, Helvetica\, sans-serif\;"><span style="font-family: Verdana\;">&nbsp\;for more details on how to get involved with a team that is making a difference in shaping&nbsp\;homebuilder-focused&nbsp\;legislation and pro-growth government initiatives. PAC focuses on candidates in local and state elections. Along with the Florida Home Builders Association (FHBA-PAC)\,&nbsp\;GOBA&nbsp\;PAC screens and endorses those candidates who support and recognize the importance of homeownership and&nbsp\;homebuilding&nbsp\;as an economic force within the community. Meetings are open to the membership.</span></span>
LOCATION:Century Link Boardroom GOBA Offices 1953 Clayton Heritage Way Maitland\, FL 32751
UID:e.9318.3964
SEQUENCE:3
DTSTAMP:20260422T054012Z
URL:https://members.greaterorlandoba.com/events/details/political-action-committee-3964
END:VEVENT

END:VCALENDAR
