BEGIN:VCALENDAR
VERSION:2.0
PRODID:-//ChamberMaster//Event Calendar 2.0//EN
METHOD:PUBLISH
X-PUBLISHED-TTL:P3D
REFRESH-INTERVAL:P3D
CALSCALE:GREGORIAN
BEGIN:VEVENT
DTSTART:20200430T200000Z
DTEND:20200430T210000Z
X-MICROSOFT-CDO-ALLDAYEVENT:FALSE
SUMMARY:Political Action Committee - Exclusive
DESCRIPTION:INVITE ONLY \n\n \nThe GOBA Political Action Committee (PAC) and GOBA Government Affairs Committee (GA) are holding a joint meeting via Zoom on Thursday\, April 30th from 4:00 p.m. to 5:00 p.m.  During which we will be joined by special guest State Representative and Chair of the Florida House Commerce Committee Mike La Rosa. \n\n \n\nRep. La Rosa will be proving us with updates and answering questions regarding the latest on COVID-19\, re-opening the economy\, as well as state and federal relief programs.  This will be a very informative meeting and an excellent opportunity to obtain valuable information to help you and your company navigate these unprecedented times\, as well as inform Rep. La Rosa about the needs of the industry.\n\n \n\nYou can register for the meeting at:  (zoom information to be sent to GOBA leadership\, GA Committee and PAC Board)\n\n\n\nThank you to all members who contributed to PAC this year! We had a successful 2019 fundraising year and want to thank everyone for your time\, input and financial contributions. \n\n\n\nWe have a strong board and we are ready for the 2020 Election Season! \n\n\n\nContact Lee Steinhauer at Lee@GreaterOrlandoBA.com for more details on how to get involved with a team that is making a difference in shaping homebuilder-focused legislation and pro-growth government initiatives. PAC focuses on candidates in local and state elections. Along with the Florida Home Builders Association (FHBA-PAC)\, GOBA PAC screens and endorses those candidates who support and recognize the importance of homeownership and homebuilding as an economic force within the community.\n\n\n\nMeetings are open to all GOBA MEMBERS.
X-ALT-DESC;FMTTYPE=text/html:<h1 style="font-weight: inherit\; line-height: 1.1\; box-sizing: content-box\; margin: 20px 0px 10px\; font-size: 36px\; font-family: Calibri\, Verdana\, Geneva\, sans-serif\; color: rgb(0\, 51\, 104)\; bottom: auto\; clear: none\; content: normal\; direction: inherit\; empty-cells: show\; font-variant-numeric: inherit\; font-variant-east-asian: inherit\; font-stretch: inherit\; left: auto\; max-height: none\; max-width: none\; min-height: initial\; min-width: initial\; opacity: 1\; outline-offset: 0px\; overflow: visible\; padding: 0px\; position: static\; resize: none\; right: auto\; table-layout: auto\; text-overflow: clip\; top: auto\; vertical-align: baseline\; visibility: inherit\; word-break: inherit\; overflow-wrap: inherit\; z-index: auto\; background-image: none\; background-position: initial\; background-size: initial\; background-repeat: initial\; background-attachment: initial\; background-origin: initial\; background-clip: initial\; border: none\; border-collapse: separate\; border-radius: 0px\; height: auto\; width: auto\; box-shadow: none\;">INVITE ONLY&nbsp\;</h1>\n\n<div dir="inherit">&nbsp\;</div>\nThe GOBA Political Action Committee (PAC) and GOBA Government Affairs Committee (GA) are holding a joint meeting via Zoom on Thursday\, April 30<sup>th</sup> from 4:00 p.m. to 5:00 p.m.&nbsp\; During which we will be joined by special guest State Representative and Chair of the Florida House Commerce Committee Mike La Rosa.&nbsp\;<br />\n&nbsp\;<br />\nRep. La Rosa will be proving us with updates and answering questions regarding the latest on COVID-19\, re-opening the economy\, as well as state and federal relief programs. &nbsp\;This will be a very informative meeting and an excellent opportunity to obtain valuable information to help you and your company navigate these unprecedented times\, as well as inform Rep. La Rosa about the needs of the industry.<br />\n&nbsp\;<br />\nYou can register for the meeting at:&nbsp\; (zoom information to be sent to GOBA leadership\, GA Committee and PAC Board)<br />\n<br />\n<span style="color: rgb(0\, 0\, 0)\; font-family: Verdana\, Arial\, Helvetica\, sans-serif\;"><span style="font-family: Verdana\;">Thank you to all members who contributed to PAC this year! We had a successful 2019 fundraising year and want to thank everyone for your time\, input and financial contributions.&nbsp\;<br />\n<br />\n<strong>We have a strong board and we are ready for the 2020 Election Season!</strong>&nbsp\;<br />\n<br />\nContact Lee Steinhauer at&nbsp\;<a _fcksavedurl="mailto:adrianna@greaterorlandoba.com" href="mailto:adrianna@greaterorlandoba.com" style="background: none\; margin: 0px\; padding: 0px\; border: 0px currentColor\; border-image: none\; color: rgb(66\, 139\, 202)\; text-decoration: none\; cursor: pointer\; box-sizing: border-box\;">Lee@GreaterOrlandoBA.com</a></span></span><span style="color: rgb(0\, 0\, 0)\; font-family: Verdana\, Arial\, Helvetica\, sans-serif\;"><span style="font-family: Verdana\;">&nbsp\;for more details on how to get involved with a team that is making a difference in shaping homebuilder-focused legislation and pro-growth government initiatives. PAC focuses on candidates in local and state elections. Along with the Florida Home Builders Association (FHBA-PAC)\, GOBA PAC screens and endorses those candidates who support and recognize the importance of homeownership and homebuilding as an economic force within the community.<br />\n<br />\n<strong>Meetings are open to all GOBA MEMBERS.</strong></span></span>
LOCATION:GOBA Central Kitchen & Bath Boardroom 1953 Clayton Heritage Way Maitland\, FL 32751
UID:e.9318.4546
SEQUENCE:3
DTSTAMP:20260419T235956Z
URL:https://members.greaterorlandoba.com/events/details/political-action-committee-exclusive-4546
END:VEVENT

END:VCALENDAR
