BEGIN:VCALENDAR
VERSION:2.0
PRODID:-//ChamberMaster//Event Calendar 2.0//EN
METHOD:PUBLISH
X-PUBLISHED-TTL:P3D
REFRESH-INTERVAL:P3D
CALSCALE:GREGORIAN
BEGIN:VEVENT
DTSTART:20171206T210000Z
DTEND:20171206T220000Z
X-MICROSOFT-CDO-ALLDAYEVENT:FALSE
SUMMARY:Political Action Committee Meeting
DESCRIPTION:PAC Meeting
X-ALT-DESC;FMTTYPE=text/html:PAC Meeting
LOCATION:GOBA
UID:e.9318.4814
SEQUENCE:3
DTSTAMP:20260419T130805Z
URL:https://members.greaterorlandoba.com/events/details/political-action-committee-meeting-4814
END:VEVENT

END:VCALENDAR
