BEGIN:VCALENDAR
VERSION:2.0
PRODID:-//ChamberMaster//Event Calendar 2.0//EN
METHOD:PUBLISH
X-PUBLISHED-TTL:P3D
REFRESH-INTERVAL:P3D
CALSCALE:GREGORIAN
BEGIN:VEVENT
DTSTART:20170925T190000Z
DTEND:20170925T200000Z
X-MICROSOFT-CDO-ALLDAYEVENT:FALSE
SUMMARY:POSTPONED--GOBA Superintendent Training Program--Informational meeting
DESCRIPTION:GOBA is holding an informational meeting to discuss the Joint Building Committee's proposed Superintendent Training Program at GOBA. The training course will be a public private partnership with participation from both builders and building officials. \n\n\n\nItems of discussion will include: course curriculum\, proposed instructors\, number and time of training sessions\, etc.\n\n\n\nAll builder members and interested building officials are strongly encouraged to attend the meeting and provide their input.
X-ALT-DESC;FMTTYPE=text/html:<span style="font-size:16px\;"><span style="font-size:18px\;"><span style="font-family:times new roman\;">GOBA&nbsp\;is holding an informational meeting to discuss the Joint Building Committee&#39\;s proposed Superintendent Training Program at GOBA. </span><span style="color: rgb(51\, 51\, 51)\; font-family: &quot\;times new roman&quot\;\; background-color: rgb(255\, 255\, 255)\;">The training course will be a public private partnership with participation from both builders and building officials.&nbsp\;</span></span><br />\n<br />\n<span style="font-family:times new roman\;"><span style="font-size:18px\;">Items of discussion will include: course curriculum\, proposed instructors\, number and time of training sessions\, etc.<br />\n<br />\nAll builder members and interested building officials are strongly encouraged&nbsp\;to attend the meeting and provide their input. </span>&nbsp\;</span></span>
LOCATION:GOBA Great Hall
UID:e.9318.4695
SEQUENCE:3
DTSTAMP:20260421T160139Z
URL:https://members.greaterorlandoba.com/events/details/postponed-goba-superintendent-training-program-informational-meeting-4695
END:VEVENT

END:VCALENDAR
