BEGIN:VCALENDAR
VERSION:2.0
PRODID:-//ChamberMaster//Event Calendar 2.0//EN
METHOD:PUBLISH
X-PUBLISHED-TTL:P3D
REFRESH-INTERVAL:P3D
CALSCALE:GREGORIAN
BEGIN:VEVENT
DTSTART:20180523T143000Z
DTEND:20180523T160000Z
X-MICROSOFT-CDO-ALLDAYEVENT:FALSE
SUMMARY:Project Superintendent Training (Course 2) - Foundation\, Stemwall\, and Slab @ Beazer's Clifton Park Subdivision
DESCRIPTION:FREE Project Superintendent Course Program\n\n\n\nObjective: Working collaboratively with building officials\, inspectors\, and top industry professionals to promote best practices and create professional relationships between the public and private sectors through education.\n\n\n\nExpectation: Completion of all 8 courses to receive GOBA's Certificate of Completion supported by Orange County and Seminole County.\n\n\n\nLocation: Off-site at Beazer's Clifton Park subdivision.\n\n4900 Echo Court\, Oviedo\, FL 32765\n\n\n\nCourse 1 ? General Site and SWPPP\n\nMay 9\, 2018 10:30 am - noon\n\nTraining Team ? Ted Estes from M/I Homes\, Alexis Clark\, Environmental Protection Supervisor from Orange County\, Kathryn Campbell from Koncept Karma and Sarah Hazzard from Alpha E.M.C.\n\n\n\nCourse 2 ? Foundation\, Stemwall\, Slab practices and inspections \n\nMay 23\, 2018 10:30 am ? noon\n\nTraining Team ? Bradley Wightman\, Director of Construction from Beazer Homes\, Seminole County Building Official Paul Watson\, and Seminole County Chief Plans Examiner Bob Pike\n\n \n\nCourse 3 ? Lintel\, Tie-beam\, Down Pour-practices and inspections\n\nDate - TBD\n\nTraining Team ? K Hovnanian Homes\, Orange County\n\n \n\nCourse 4 ? Frame\, Truss\, Window\n\nDate - TBD\n\nTraining Team ? Meritage Homes\, Orange County\, Stairmasterz\, Inc.\, Quick Tie Products\, Inc.\n\n \n\nCourse 5 ? Estar Rating\, Testing and Insulation\n\nDate - TBD\n\nTraining team ? DR Horton\, County and subcontractor TBD\n\n \n\nCourse 6 ? House wrap\, Roof dry-in\, Final Roof\n\nDate - TBD\n\nTraining Team ? M/I Homes\, County and subcontractor TBD\n\n\n\nCourse 7 ? Lath and Stucco\n\nDate - TBD\n\nTraining Team ? TBD\n\n \n\nCourse 8 ? Final Building Inspection Review\n\nDate - TBD\n\nTraining Team - TBD\n\n\n\nGOBA's Superintendent Training Program will be offering a class on best practices for Foundation\, Stemwall and Slabs led by representatives from both the private and public sectors! Please plan on joining us for this special training program on May 23rd!  There are still opportunities to join a training team! Please reach out to Jenelle if you are interested in being a part of the Project Superintendent Training Team. \n\n\n\nDid you miss Course #1? It's okay! We will be offering all of the Project Superintendent Training Program's courses again. Feel free to attend even if you miss one or two! You can make it up during the next training session to earn your GOBA Certification of Completion.
X-ALT-DESC;FMTTYPE=text/html:<strong><u>FREE Project Superintendent Course Program</u></strong><br />\n<br />\n<strong>Objective</strong>: Working collaboratively with building officials\, inspectors\, and top industry professionals to&nbsp\;promote best&nbsp\;practices and create professional relationships between the public and private sectors through education.<br />\n<br />\n<strong>Expectation</strong>: Completion of all 8 courses to receive GOBA&#39\;s Certificate of Completion supported by Orange County and Seminole County.<br />\n<br />\n<strong>Location</strong>: Off-site at&nbsp\;Beazer&#39\;s&nbsp\;Clifton&nbsp\;Park subdivision.<br />\n4900 Echo Court\,&nbsp\;Oviedo\, FL 32765<br />\n<br />\n<strong><u>Course 1 ? General Site and SWPPP</u></strong><br />\nMay 9\, 2018 10:30 am - noon<br />\nTraining Team ? Ted Estes from M/I Homes\, Alexis Clark\, Environmental Protection Supervisor from Orange County\, Kathryn Campbell from Koncept Karma and Sarah Hazzard from Alpha E.M.C.<br />\n<br />\n<strong><u>Course 2 ? Foundation\, Stemwall\, Slab practices and inspections </u></strong><br />\nMay 23\, 2018 10:30 am ? noon<br />\nTraining Team ? Bradley Wightman\, Director of Construction from&nbsp\;Beazer Homes\, Seminole County Building Official Paul Watson\, and Seminole County Chief Plans Examiner Bob Pike<br />\n&nbsp\;<br />\n<strong><u>Course 3 ? Lintel\, Tie-beam\, Down Pour-practices and inspections</u></strong><br />\nDate - TBD<br />\nTraining Team ? K Hovnanian Homes\, Orange County<br />\n&nbsp\;<br />\n<strong><u>Course 4 ? Frame\, Truss\, Window</u></strong><br />\nDate - TBD<br />\nTraining Team ? Meritage Homes\, Orange County\, Stairmasterz\, Inc.\, Quick Tie Products\, Inc.<br />\n&nbsp\;<br />\n<strong><u>Course 5 ? Estar Rating\, Testing and Insulation</u></strong><br />\nDate - TBD<br />\nTraining team ? DR Horton\, County and subcontractor TBD<br />\n&nbsp\;<br />\n<strong><u>Course 6 ? House wrap\, Roof dry-in\, Final Roof</u></strong><br />\nDate - TBD<br />\nTraining Team ? M/I Homes\, County and subcontractor TBD<br />\n<br />\n<strong><u>Course 7 ? Lath and Stucco</u></strong><br />\nDate - TBD<br />\nTraining Team ? TBD<br />\n&nbsp\;<br />\n<strong><u>Course 8 ? Final Building Inspection Review</u></strong><br />\nDate - TBD<br />\nTraining Team - TBD<br />\n<br />\nGOBA&#39\;s <u>Superintendent Training Program</u> will be offering a class on best practices for <strong>Foundation\, Stemwall and Slabs</strong>&nbsp\;led by representatives from both the private and public sectors! Please plan on joining us for this special training program on<strong> May 23rd!&nbsp\; There are still opportunities to join a training team! Please reach out to Jenelle if you are interested in being a part of the Project Superintendent Training Team.&nbsp\;</strong><br />\n<br />\nDid you miss Course #1? It&#39\;s okay! We will be offering all of the Project Superintendent Training Program&#39\;s courses again. Feel free to attend even if you miss one or two! You can make it up during the next training session to earn your GOBA Certification of Completion.<br />\n<br />\n<br />\n<br />\n<br />\n&nbsp\;
LOCATION:Course # 2 will be held on-site at Beazer's Clifton Park subdivision. 4900 Echo Court\, Oviedo\, FL 32765.
UID:e.9318.5401
SEQUENCE:3
DTSTAMP:20260419T210704Z
URL:https://members.greaterorlandoba.com/events/details/project-superintendent-training-course-2-foundation-stemwall-and-slab-beazer-s-cliffton-park-subdivision-5401
END:VEVENT

END:VCALENDAR
