BEGIN:VCALENDAR
VERSION:2.0
PRODID:-//ChamberMaster//Event Calendar 2.0//EN
METHOD:PUBLISH
X-PUBLISHED-TTL:P3D
REFRESH-INTERVAL:P3D
CALSCALE:GREGORIAN
BEGIN:VEVENT
DTSTART:20180627T140000Z
DTEND:20180627T160000Z
X-MICROSOFT-CDO-ALLDAYEVENT:FALSE
SUMMARY:Project Superintendent Training (Course 4) - Best Practices for Framing & Trusses
DESCRIPTION:Click here for event flyer.\n\n\n\nFREE Project Superintendent Course Program\n\n\n\nObjective: Working collaboratively with building officials\, inspectors\, and top industry professionals to promote best practices and create professional relationships between the public and private sectors through education.\n\n\n\nExpectation: Completion of all 8 courses to receive GOBA's Certificate of Completion supported by Orange County and Seminole County.\n\n\n\nLocation: GOBA ODC Great Hall\, 1953 Clayton Heritage Way\, Maitland\, FL 32751\n\n\n\n\n\nCourse 1 - General Site and SWPPP\n\nMay 9\, 2018 10:30 am - noon\n\nTraining Team: Ted Estes from M/I Homes\, Alexis Clark\, Environmental Protection Supervisor from Orange County\, Kathryn Campbell from Koncept Karma and Sarah Hazzard from Alpha E.M.C.\n\n\n\nCourse 2 - Foundation\, Stemwall\, Slab practices and inspections \n\nMay 23\, 2018 10:30 am - noon\n\nTraining Team:  Bradley Wightman\, Director of Construction from Beazer Homes\, Seminole County Building Official Paul Watson\, and Seminole County Chief Plans Examiner Bob Pike\n\n \n\nCourse 3 - Lintel\, Tie-beam\, Down Pour-practices and inspections\n\nJune 11\, 2018 10:30 - noon\n\nTraining Team: Jimmy Clark\, VP of Construction for K. Hovnanian Homes\, Chris Sukut\, Orange County Deputy Chief Building Inspector and Bob Amato\, Orange County Deputy Chief\n\n \n\nCourse 4 - Framing and Trusses\n\nDate: Wednesday\, June 27th\, 2018\n\nTraining Team: Chris Sukut\, Orange County Deputy Chief Building Inspector and Bob Amato\, Orange County Deputy Chief\,  Wes Robins\, Chief Marketing Officer and Mike Loader\, Regional Product Specialist from Quick Tie Products\, Inc. and Meritage Homes.\n\n \n\nCourse 5 - Estar Rating\, Testing and Insulation\n\nDate: TBD\n\nTraining team:  DR Horton\, County and subcontractor TBD\n\n \n\nCourse 6 - House wrap\, Roof dry-in\, Final Roof\n\nDate: TBD\n\nTraining Team: M/I Homes\, County and subcontractor TBD\n\n\n\nCourse 7 - Lath and Stucco\n\nDate: TBD\n\nTraining Team: TBD\n\n \n\nCourse 8 - Final Building Inspection Review\n\nDate: TBD\n\nTraining Team: TBD\n\n\n\nGOBA's Superintendent Training Program will be offering a class on best practices for framing and trusses led by representatives from both the private and public sectors! Please plan on joining us for this FREE special training program on Wednesday\, June 27th!  There are still opportunities to join a training team! Please reach out to Jenelle Schmidli if you are interested in being a part of the Project Superintendent Training Team. \n\n\n\nDid you miss a course or two? It's okay! We will be offering all of the Project Superintendent Training Program's courses again. Feel free to attend even if you miss a course! You can make it up during the next training session to earn your GOBA Certification of Completion.
X-ALT-DESC;FMTTYPE=text/html:<strong><u><a href="https://chambermaster.blob.core.windows.net/userfiles/UserFiles/chambers/9318/File/Course4BestPracticesforFramingandTrusses.pdf">Click here for event flyer.</a><br />\n<br />\nFREE Project Superintendent Course Program</u></strong><br />\n<br />\n<strong>Objective</strong>: Working collaboratively with building officials\, inspectors\, and top industry professionals to&nbsp\;promote best&nbsp\;practices and create professional relationships between the public and private sectors through education.<br />\n<br />\n<strong>Expectation</strong>: Completion of all 8 courses to receive&nbsp\;GOBA&#39\;s&nbsp\;Certificate of Completion supported by Orange County and Seminole County.<br />\n<br />\n<strong>Location</strong>:&nbsp\;GOBA&nbsp\;ODC&nbsp\;Great Hall\, 1953 Clayton Heritage Way\, Maitland\, FL 32751<br />\n<br />\n<br />\n<span style="color: rgb(169\, 169\, 169)\;"><strong><u>Course 1 -&nbsp\;General Site and&nbsp\;SWPPP</u></strong><br />\nMay 9\, 2018 10:30 am - noon<br />\nTraining Team: Ted Estes from M/I Homes\, Alexis Clark\, Environmental Protection Supervisor from Orange County\, Kathryn Campbell from&nbsp\;Koncept&nbsp\;Karma and Sarah&nbsp\;Hazzard&nbsp\;from Alpha E.M.C.<br />\n<br />\n<strong><u>Course 2 - Foundation\,&nbsp\;Stemwall\, Slab practices and inspections&nbsp\;</u></strong><br />\nMay 23\, 2018 10:30 am - noon<br />\nTraining Team:&nbsp\; Bradley&nbsp\;Wightman\, Director of Construction from&nbsp\;Beazer&nbsp\;Homes\, Seminole County Building Official Paul Watson\, and Seminole County Chief Plans Examiner Bob Pike</span><br />\n&nbsp\;<br />\n<span style="color:#A9A9A9\;"><strong><u>Course 3 - Lintel\, Tie-beam\, Down Pour-practices and inspections</u><br />\nJune 11\, 2018 10:30 - noon<br />\nTraining Team: Jimmy Clark\, VP of Construction for K.&nbsp\;Hovnanian&nbsp\;Homes\, Chris&nbsp\;Sukut\, Orange County Deputy Chief Building Inspector and Bob&nbsp\;Amato\, Orange County Deputy Chief</strong></span><br />\n&nbsp\;<br />\n<strong><u>Course 4 - Framing and Trusses</u><br />\nDate: Wednesday\, June 27th\, 2018<br />\nTraining Team:&nbsp\;Chris&nbsp\;Sukut\, Orange County Deputy Chief Building Inspector and Bob&nbsp\;Amato\, Orange County Deputy Chief\,&nbsp\; Wes Robins\, Chief Marketing Officer and Mike Loader\, Regional Product Specialist from Quick</strong><strong> Tie Products\, Inc. and Meritage Homes.</strong><br />\n<span style="color: rgb(169\, 169\, 169)\;">&nbsp\;<br />\n<strong><u>Course 5 -&nbsp\;Estar&nbsp\;Rating\, Testing and Insulation</u></strong><br />\nDate: TBD<br />\nTraining team:&nbsp\; DR Horton\, County and subcontractor TBD<br />\n&nbsp\;<br />\n<strong><u>Course 6 - House wrap\, Roof dry-in\, Final Roof</u></strong><br />\nDate: TBD<br />\nTraining Team: M/I Homes\, County and subcontractor TBD<br />\n<br />\n<strong><u>Course 7 - Lath and Stucco</u></strong><br />\nDate: TBD<br />\nTraining Team: TBD<br />\n&nbsp\;<br />\n<strong><u>Course 8 - Final Building Inspection Review</u></strong><br />\nDate: TBD<br />\nTraining Team: TBD</span><br />\n<br />\nGOBA&#39\;s&nbsp\;<u>Superintendent Training Program</u>&nbsp\;will be offering a class on best practices for <strong>framing and trusses&nbsp\;</strong>led by representatives from both the private and public sectors! Please plan on joining us for this FREE special training program on<strong>&nbsp\;Wednesday\, June 27th!&nbsp\; There are still opportunities to join a training team! Please reach out to&nbsp\;Jenelle&nbsp\;Schmidli&nbsp\;if you are interested in being a part of the Project Superintendent Training Team.&nbsp\;</strong><br />\n<br />\nDid you miss a course or two? It&#39\;s okay! We will be offering all of the Project Superintendent Training Program&#39\;s courses again. Feel free to attend even if you miss a course! You can make it up during the next training session to earn your&nbsp\;GOBA&nbsp\;Certification of Completion.<br />\n<br />\n<br />\n<br />\n<br />\n&nbsp\;
LOCATION:Greater Orlando Builders Association - ODC Great Hall 1953 Clayton Heritage Way Maitland\, FL 32751
UID:e.9318.5409
SEQUENCE:3
DTSTAMP:20260419T224432Z
URL:https://members.greaterorlandoba.com/events/details/project-superintendent-training-course-4-best-practices-for-framing-trusses-5409
END:VEVENT

END:VCALENDAR
