BEGIN:VCALENDAR
VERSION:2.0
PRODID:-//ChamberMaster//Event Calendar 2.0//EN
METHOD:PUBLISH
X-PUBLISHED-TTL:P3D
REFRESH-INTERVAL:P3D
CALSCALE:GREGORIAN
BEGIN:VEVENT
DTSTART:20180723T130000Z
DTEND:20180723T150000Z
X-MICROSOFT-CDO-ALLDAYEVENT:FALSE
SUMMARY:Project Superintendent Training (Course 6) - Best Practices for House Wrap\, Roof Dry-In and Final Roof
DESCRIPTION:Click here for event flyer.\n\n\n\nFREE Project Superintendent Course Program\n\n\n\nObjective: Working collaboratively with building officials\, inspectors\, and top industry professionals to promote best practices and create professional relationships between the public and private sectors through education.\n\n\n\nExpectation: Completion of all 8 courses to receive GOBA's Certificate of Completion supported by Orange County and Seminole County.\n\n\n\nLocation: See course description.\n\n\n\n\n\nCourse 1 - General Site and SWPPP\n\nMay 9\, 2018 10:30 am - noon\n\nTraining Team: Ted Estes from M/I Homes\, Alexis Clark\, Environmental Protection Supervisor from Orange County\, Kathryn Campbell from Koncept Karma and Sarah Hazzard from Alpha E.M.C.\n\n\n\nCourse 2 - Foundation\, Stemwall\, Slab practices and inspections \n\nMay 23\, 2018 10:30 am - noon\n\nTraining Team:  Bradley Wightman\, Director of Construction from Beazer Homes\, Seminole County Building Official Paul Watson\, and Seminole County Chief Plans Examiner Bob Pike\n\n \n\nCourse 3 - Lintel\, Tie-beam\, Down Pour-practices and inspections\n\nJune 11\, 2018 10:30 - noon\n\nTraining Team: Jimmy Clark\, VP of Construction for K. Hovnanian Homes\, Chris Sukut\, Orange County Deputy Chief Building Inspector and Bob Amato\, Orange County Deputy Chief\n\n \n\nCourse 4 - Framing and Trusses\n\nDate: Wednesday\, June 27th\, 2018\n\nTraining Team: Chris Sukut\, Orange County Deputy Chief Building Inspector and Bob Amato\, Orange County Deputy Chief\,  Wes Robins\, Chief Marketing Officer and Mike Loader\, Regional Product Specialist from Quick Tie Products\, Inc. and Meritage Homes.\n\n \n\nCourse 5 - Estar Rating\, Testing and Insulation\n\nDate: Thursday\, July 12\, 2018 10:00 am - Noon\n\nTraining team:  Chris Sukut\, Orange County Deputy Chief Building Inspector and Bob Amato\, Orange County Deputy Chief and Tim Smith\, Chief Operations Officer for 15 Lightyears.\n\n \n\nCourse 6 - House wrap\, Roof dry-in\, Final Roof\n\nDate: Monday\, July 23\, 2018 9:00 am - 11:00 am\n\nTraining Team: City of Orlando Chief Building Inspectors Ricci Todd and Scott Merrick and Kenny Rodriguez\, Operations Manager and Matthew Fantz\, Sales Executive with PetersenDean.\n\nLocation: GOBA's ODC Great Hall\n\n\n\nCourse 7 - Lath and Stucco\n\nDate: Wednesday\, August 22\, 2018\n\nLocation: Seminole County Chambers\, 1101 East First Street\, Sanford\, FL 32771\n\nTraining Team: Seminole County\, In-Spex\, Florida Lath & Plaster Bureau\, and Beazer Homes\n\n \n\nCourse 8 - Final Building Inspection Review\n\nDate: TBD\n\nTraining Team: Chris Sukut\, Orange County Deputy Chief Building Inspector and Bob Amato\, Orange County Deputy Chief\n\n\n\nGOBA's Superintendent Training Program will be offering a class on best practices for house wrap and roofing led by representatives from both the private and public sectors! Please plan on joining us for this FREE special training program on Monday\, July 23rd!  There are still opportunities to join a training team! Please reach out to Jenelle Schmidli if you are interested in being a part of the Project Superintendent Training Team. \n\n\n\nDid you miss a course or two? It's okay! We will be offering all of the Project Superintendent Training Program's courses again. Feel free to attend even if you miss a course! You can make it up during the next training session to earn your GOBA Certification of Completion.
X-ALT-DESC;FMTTYPE=text/html:<a href="https://chambermaster.blob.core.windows.net/userfiles/UserFiles/chambers/9318/File/Course6BestPracticesforRoofing.docx">Click here for event flyer.</a><br />\n<br />\n<strong><u>FREE Project Superintendent Course Program</u></strong><br />\n<br />\n<strong>Objective</strong>: Working collaboratively with building officials\, inspectors\, and top industry professionals to&nbsp\;promote best&nbsp\;practices and create professional relationships between the public and private sectors through education.<br />\n<br />\n<strong>Expectation</strong>: Completion of all 8 courses to receive&nbsp\;GOBA&#39\;s&nbsp\;Certificate of Completion supported by Orange County and Seminole County.<br />\n<br />\n<strong>Location</strong>: See course description.<br />\n<br />\n<br />\n<span style="color: rgb(169\, 169\, 169)\;"><strong><u>Course 1 -&nbsp\;General Site and&nbsp\;SWPPP</u></strong><br />\nMay 9\, 2018 10:30 am - noon<br />\nTraining Team: Ted Estes from M/I Homes\, Alexis Clark\, Environmental Protection Supervisor from Orange County\, Kathryn Campbell from&nbsp\;Koncept&nbsp\;Karma and Sarah&nbsp\;Hazzard&nbsp\;from Alpha E.M.C.<br />\n<br />\n<strong><u>Course 2 - Foundation\,&nbsp\;Stemwall\, Slab practices and inspections&nbsp\;</u></strong><br />\nMay 23\, 2018 10:30 am - noon<br />\nTraining Team:&nbsp\; Bradley&nbsp\;Wightman\, Director of Construction from&nbsp\;Beazer&nbsp\;Homes\, Seminole County Building Official Paul Watson\, and Seminole County Chief Plans Examiner Bob Pike</span><br />\n&nbsp\;<br />\n<span style="color:#A9A9A9\;"><strong><u>Course 3 - Lintel\, Tie-beam\, Down Pour-practices and inspections</u><br />\nJune 11\, 2018 10:30 - noon<br />\nTraining Team: Jimmy Clark\, VP of Construction for K.&nbsp\;Hovnanian&nbsp\;Homes\, Chris&nbsp\;Sukut\, Orange County Deputy Chief Building Inspector and Bob&nbsp\;Amato\, Orange County Deputy Chief</strong></span><br />\n&nbsp\;<br />\n<span style="color:#A9A9A9\;"><strong><u>Course 4 - Framing and Trusses</u><br />\nDate: Wednesday\, June 27th\, 2018<br />\nTraining Team:&nbsp\;Chris&nbsp\;Sukut\, Orange County Deputy Chief Building Inspector and Bob&nbsp\;Amato\, Orange County Deputy Chief\,&nbsp\; Wes Robins\, Chief Marketing Officer and Mike Loader\, Regional Product Specialist from Quick</strong><strong> Tie Products\, Inc. and Meritage Homes.</strong></span><br />\n<span style="color: rgb(169\, 169\, 169)\;">&nbsp\;</span><br />\n<span style="color:#A9A9A9\;"><u><strong>Course 5 -&nbsp\;Estar&nbsp\;Rating\, Testing and Insulation</strong></u><br />\nDate: Thursday\, July 12\, 2018 10:00 am - Noon<br />\nTraining team:&nbsp\; Chris&nbsp\;Sukut\, Orange County Deputy Chief Building Inspector and Bob&nbsp\;Amato\, Orange County Deputy Chief and Tim Smith\, Chief Operations Officer for 15 Lightyears.</span><br />\n<span style="color:#A9A9A9\;">&nbsp\;</span><br />\n<strong><u>Course 6 - House wrap\, Roof dry-in\, Final Roof</u></strong><br />\nDate: Monday\, July 23\, 2018 9:00 am - 11:00 am<br />\nTraining Team: City of Orlando Chief Building Inspectors Ricci Todd and Scott Merrick and Kenny Rodriguez\, Operations Manager and Matthew Fantz\, Sales Executive with PetersenDean.<br />\nLocation: GOBA&#39\;s ODC Great Hall<br />\n<br />\n<span style="color:#A9A9A9\;"><strong><u>Course 7 - Lath and Stucco</u></strong><br />\nDate: Wednesday\, August 22\, 2018<br />\nLocation: Seminole County Chambers\, 1101 East First Street\, Sanford\, FL 32771<br />\nTraining Team: Seminole County\, In-Spex\, Florida Lath &amp\; Plaster Bureau\, and Beazer Homes<br />\n&nbsp\;<br />\n<strong><u>Course 8 - Final Building Inspection Review</u></strong><br />\nDate: TBD<br />\nTraining Team:&nbsp\;<strong>Chris&nbsp\;Sukut\, Orange County Deputy Chief Building Inspector and Bob&nbsp\;Amato\, Orange County Deputy Chief</strong></span><br />\n<br />\nGOBA&#39\;s&nbsp\;<u>Superintendent Training Program</u>&nbsp\;will be offering a class on best practices for <strong>house wrap and roofing</strong><b> </b>led by representatives from both the private and public sectors! Please plan on joining us for this FREE special training program on<strong>&nbsp\;Monday\, July 23rd!&nbsp\; There are still opportunities to join a training team! Please reach out to&nbsp\;Jenelle&nbsp\;Schmidli&nbsp\;if you are interested in being a part of the Project Superintendent Training Team.&nbsp\;</strong><br />\n<br />\nDid you miss a course or two? It&#39\;s okay! We will be offering all of the Project Superintendent Training Program&#39\;s courses again. Feel free to attend even if you miss a course! You can make it up during the next training session to earn your&nbsp\;GOBA&nbsp\;Certification of Completion.<br />\n<br />\n<br />\n<br />\n<br />\n&nbsp\;
LOCATION:Greater Orlando Builders Association - ODC Great Hall 1953 Clayton Heritage Way Maitland\, FL 32751
UID:e.9318.5425
SEQUENCE:3
DTSTAMP:20260420T001304Z
URL:https://members.greaterorlandoba.com/events/details/project-superintendent-training-course-6-best-practices-for-house-wrap-roof-dry-in-and-final-roof-5425
END:VEVENT

END:VCALENDAR
