BEGIN:VCALENDAR
VERSION:2.0
PRODID:-//ChamberMaster//Event Calendar 2.0//EN
METHOD:PUBLISH
X-PUBLISHED-TTL:P3D
REFRESH-INTERVAL:P3D
CALSCALE:GREGORIAN
BEGIN:VEVENT
DTSTART:20171214T063000Z
DTEND:20171214T190000Z
X-MICROSOFT-CDO-ALLDAYEVENT:FALSE
SUMMARY:Remodel & Design Council Meeting
DESCRIPTION:Monthly Council Meeting.\n\nDiscuss planning of events and projects for 2018.
X-ALT-DESC;FMTTYPE=text/html:<span style="font-size:14px\;"><span style="font-family:verdana\;">Monthly Council Meeting.<br />\nDiscuss planning of events and projects for 2018.</span></span>
LOCATION:GOBA Great Hall 1953 Clayton Heritage Way Maitland\, FL 32751
UID:e.9318.3963
SEQUENCE:3
DTSTAMP:20260419T130728Z
URL:https://members.greaterorlandoba.com/events/details/remodel-design-council-meeting-12-14-2017-3963
END:VEVENT

END:VCALENDAR
