BEGIN:VCALENDAR
VERSION:2.0
PRODID:-//ChamberMaster//Event Calendar 2.0//EN
METHOD:PUBLISH
X-PUBLISHED-TTL:P3D
REFRESH-INTERVAL:P3D
CALSCALE:GREGORIAN
BEGIN:VEVENT
DTSTART:20160331T200000Z
DTEND:20160331T220000Z
X-MICROSOFT-CDO-ALLDAYEVENT:FALSE
SUMMARY:Rural Boundaries Charter Review Commission
DESCRIPTION:CALL TO ACTION: Please mark your calendars. On March 31st at 4pm at the Orange County Commission Chambers\, the Charter Review Commission will be voting on whether or not to support a ballot initiative regarding Rural Boundaries. It is imperative that the association speaks to vote down this proposal by the CRC. A calendar invite and talking points will be sent to you. Please come early to save your seat and fill out a speaker's request card. Read below for more details.\n\n\n\nNOTE: The meeting date has changed to March 31st!\n\n \n\nRural Boundaries   The Orange County Charter Review Commission (CRC) Rural Boundaries Workgroup met on February 9th to discuss a proposal that would require a unanimous vote by the County Commission on any growth or development outside the Urban Service Area. With help from our dedicated membership\, the workgroup decided to vote down the recommendation. Though a step in the right direction for development\, the full CRC will still have the opportunity to support this proposal. The CRC meets to discuss Rural Boundaries on March 31st at 4pm. Please attend in support of development in Orange County.
X-ALT-DESC;FMTTYPE=text/html:<span style="color:#FF0000\;"><strong>CALL TO ACTION</strong></span><span style="color:#000000\;">: Please mark your calendars. On <u>March 31st&nbsp\;at 4pm</u> at the Orange County Commission Chambers\, the Charter Review Commission will be voting on whether or not to support a ballot initiative regarding Rural Boundaries. It is imperative that the association speaks to vote down this proposal by the CRC. A calendar invite and talking points will be sent to you. Please come early to save your seat and fill out a speaker&rsquo\;s request card. Read below for more details.</span><br />\n<br />\n<strong><span style="color:#FF0000\;">NOTE: The meeting date has changed to March 31st!</span></strong><br />\n<span style="color:#000000\;">&nbsp\;<br />\n<strong>Rural Boundaries</strong> &ndash\; The Orange County Charter Review Commission (CRC) </span><a href="https://chambermaster.blob.core.windows.net/userfiles/UserFiles/chambers/9318/CMS/Rural_Boundaries_Workgroup_02.09.16.pdf"><span style="color:#000000\;">Rural Boundaries Workgroup</span></a><span style="color:#000000\;"> met on February 9<sup>th</sup> to discuss a proposal that would require a unanimous vote by the County Commission on any growth or development outside the Urban Service Area. With help from our dedicated membership\, the workgroup decided to vote down the recommendation. Though a step in the right direction for development\, the full CRC will still have the opportunity to support this proposal. The CRC meets to discuss Rural Boundaries on March 31st&nbsp\;at 4pm. Please attend in support of development in Orange County.</span>
LOCATION:Orange County Administrative Building 1st Floor Commission Chambers 201 S. Rosalind Avenue Orlando\, FL 32801
UID:e.9318.3884
SEQUENCE:3
DTSTAMP:20260422T191820Z
URL:https://members.greaterorlandoba.com/events/details/rural-boundaries-charter-review-commission-03-31-2016-3884
END:VEVENT

END:VCALENDAR
