BEGIN:VCALENDAR
VERSION:2.0
PRODID:-//ChamberMaster//Event Calendar 2.0//EN
METHOD:PUBLISH
X-PUBLISHED-TTL:P3D
REFRESH-INTERVAL:P3D
CALSCALE:GREGORIAN
BEGIN:VEVENT
DTSTART:20191114T133000Z
DTEND:20191114T213000Z
X-MICROSOFT-CDO-ALLDAYEVENT:FALSE
SUMMARY:SamTram 2019 - NEW REALTOR Registration
DESCRIPTION:Please select a date in REGISTRATION. Tour schedule and address of starting location of the tour will be sent to you soon.\n\n- Thurs. Oct. 24 - SOUTH Tour: Orlando\, St. Cloud: Lake Nona\, Narcoosee  -  SOLD OUT\n\n- Thurs. Oct. 31 - NORTH Tour: Sanford\, Apopka\, Casselberry\, Leesburg -  SOLD OUT\n\n- Thurs. Nov. 7 - WEST 1 Freedom Tour: Groveland\, Minneola\, Leesburg\, Winter Garden - SOLD OUT\n\n- Thurs. Nov. 14 - WEST 2 Independence Tour: Kissimmee\, Poinciana\, Providence\, Davenport\, Winter Garden - SOLD OUT\n\n\n\nSAM TRAM is a chauffered\, air-conditioned bus tour of homes in Central Florida\, exclusively for qualified REALTORS . It?s a great way for REALTORS  to learn the new home market and gain valuable inventory knowledge. Space is limited on the bus tours\, so sign up for your seat now!\n\n\n\nNon-refundable Fee: $10 per route \n\n\n\nDOWNLOAD FLYER  \n\n\n\nApplicant Qualifications:\n\n-  Must be A REALTOR  for less than two (2) years \n\n-  OR A NEW REALTOR  who has sold at least one new home in the last 12 months \n\n-  Your NRDS# will be required at registration for verification purposes \n\nIMPORTANT: Our priority is to serve NEW Realtors. Those who participated in SamTram in 2018 and or 2017 will be added to a waitlist. Contact cherry@greaterorlandoba.com to be put on the waitlist.
X-ALT-DESC;FMTTYPE=text/html:<p><span style="font-family:tahoma\;"><span style="font-size:12px\;"><span style="color:#B22222\;"><strong>Please select a date in REGISTRATION. Tour schedule&nbsp\;and address of starting location of the tour will be sent to you soon.</strong></span><br />\n- Thurs. <strong>Oct. 24 - SOUTH</strong> Tour: Orlando\, St. Cloud: Lake Nona\, Narcoosee&nbsp\; -&nbsp\; <span style="color:#FF0000\;"><strong>SOLD OUT</strong></span></span></span><br />\n<span style="font-family: tahoma\; font-size: 12px\;">-&nbsp\;</span><span style="font-family:tahoma\;"><span style="font-size:12px\;">Thurs. <strong>Oct. 31 - NORTH</strong> Tour: Sanford\, Apopka\, Casselberry\, Leesburg -&nbsp\;</span></span><span style="font-family: tahoma\; font-size: 12px\;">&nbsp\;</span><span style="font-family: tahoma\; font-size: 12px\; color: rgb(255\, 0\, 0)\;"><strong>SOLD OUT</strong></span><br />\n<span style="font-family: tahoma\; font-size: 12px\;">-&nbsp\;</span><span style="font-family:tahoma\;"><span style="font-size:12px\;">Thurs. <strong>Nov. 7 - WEST 1</strong> Freedom Tour: Groveland\, Minneola\, Leesburg\, Winter Garden -&nbsp\;</span></span><strong style="color: rgb(255\, 0\, 0)\; font-family: tahoma\; font-size: 12px\;">SOLD OUT</strong><br />\n<span style="font-family: tahoma\; font-size: 12px\;">-&nbsp\;</span><span style="font-family:tahoma\;"><span style="font-size:12px\;">Thurs. <strong>Nov. 14 - WEST 2</strong> Independence Tour: Kissimmee\, Poinciana\, Providence\, Davenport\, Winter Garden&nbsp\;-&nbsp\;</span></span><strong style="color: rgb(255\, 0\, 0)\; font-family: tahoma\; font-size: 12px\;">SOLD OUT</strong><br />\n<br />\n<span style="font-family:tahoma\;"><span style="font-size:12px\;">SAM TRAM is a chauffered\, air-conditioned bus tour of homes in&nbsp\;Central Florida\, exclusively for qualified REALTORS&reg\;. It?s a great way for&nbsp\;REALTORS&reg\; to learn the new home market and gain valuable inventory knowledge. Space is limited on the bus tours\, so sign up for your seat now!<br />\n<br />\n<span style="color:#B22222\;"><strong>Non-refundable Fee: $10 per route&nbsp\;</strong></span><br />\n<br />\n<strong><a href="https://chambermaster.blob.core.windows.net/userfiles/UserFiles/chambers/9318/File/Cherry/SMC/SamTram_Realtorsv2.pdf">DOWNLOAD FLYER </a> </strong><br />\n<br />\n<span style="color:#B22222\;"><strong>Applicant Qualifications:</strong></span><br />\n-&nbsp\; Must be A REALTOR&reg\; for less than two (2) years&nbsp\;<br />\n-&nbsp\; OR A NEW REALTOR&reg\; who&nbsp\;has sold at least one&nbsp\;new home&nbsp\;in the last 12 months&nbsp\;<br />\n-&nbsp\; Your NRDS# will be required at registration for verification purposes&nbsp\;<br />\n<span style="color:#B22222\;"><strong>IMPORTANT:</strong> </span>Our priority is to serve <u>NEW Realtors.</u> Those who participated in SamTram in 2018 and or 2017 will be added to a waitlist. Contact <a href="mailto:cherry@greaterorlandoba.com">cherry@greaterorlandoba.com</a> to be put on the waitlist.</span></span></p>\n
LOCATION:Routes: - Thurs. Oct. 24 - SOUTH Tour: Orlando\, St. Cloud: Lake Nona\, Narcoosee - Thurs. Oct. 31 - NORTH Tour: Sanford\, Apopka\, Casselberry\, Leesburg - Thurs. Nov. 7 - WEST 1 Freedom Tour: Groveland\, Minneola\, Leesburg\, Winter Garden - Thurs. Nov. 14 - WEST 2 Independence Tour: Kissimmee\, Poinciana\, Providence\, Davenport\, Winter Garden
UID:e.9318.5575
SEQUENCE:3
DTSTAMP:20260419T143813Z
URL:https://members.greaterorlandoba.com/events/details/samtram-2019-new-realtor-registration-5575
END:VEVENT

END:VCALENDAR
