BEGIN:VCALENDAR
VERSION:2.0
PRODID:-//ChamberMaster//Event Calendar 2.0//EN
METHOD:PUBLISH
X-PUBLISHED-TTL:P3D
REFRESH-INTERVAL:P3D
CALSCALE:GREGORIAN
BEGIN:VEVENT
DTSTART:20170713T210000Z
DTEND:20170713T220000Z
X-MICROSOFT-CDO-ALLDAYEVENT:FALSE
SUMMARY:Seminole County Impact Fee Update
DESCRIPTION:Seminole County Superintendent Dr. Walt Griffin and Seminole County School Board Chair Amy Lockhart are coming to GOBA to discuss and seek input from GOBA members regarding the proposed impact fee increases in Seminole County.
X-ALT-DESC;FMTTYPE=text/html:Seminole County Superintendent Dr. Walt Griffin and Seminole County School Board Chair Amy Lockhart are coming to GOBA&nbsp\;to discuss and seek input from GOBA members regarding the proposed impact fee increases in Seminole County. &nbsp\;
LOCATION:GOBA
UID:e.9318.4665
SEQUENCE:3
DTSTAMP:20260421T191347Z
URL:https://members.greaterorlandoba.com/events/details/seminole-county-impact-fee-update-4665
END:VEVENT

END:VCALENDAR
