BEGIN:VCALENDAR
VERSION:2.0
PRODID:-//ChamberMaster//Event Calendar 2.0//EN
METHOD:PUBLISH
X-PUBLISHED-TTL:P3D
REFRESH-INTERVAL:P3D
CALSCALE:GREGORIAN
BEGIN:VEVENT
DTSTART;VALUE=DATE:20150903
DTEND;VALUE=DATE:20150904
TRANSP:TRANSPARENT
X-MICROSOFT-CDO-ALLDAYEVENT:TRUE
SUMMARY:SMC General Membership Meeting - 09/03/2015
DESCRIPTION:
X-ALT-DESC;FMTTYPE=text/html:
LOCATION:1953 Clayton Heritage Way Maitland\, FL 32751
UID:e.9318.687
SEQUENCE:3
DTSTAMP:20260423T044243Z
URL:https://members.greaterorlandoba.com/events/details/smc-general-membership-meeting-09-03-2015-09-03-2015-687
END:VEVENT

END:VCALENDAR
